BEGIN:VCALENDAR
VERSION:2.0
PRODID:-// - ECPv6.15.20//NONSGML v1.0//EN
CALSCALE:GREGORIAN
METHOD:PUBLISH
X-ORIGINAL-URL:https://z87.de
X-WR-CALDESC:Veranstaltungen für 
REFRESH-INTERVAL;VALUE=DURATION:PT1H
X-Robots-Tag:noindex
X-PUBLISHED-TTL:PT1H
BEGIN:VTIMEZONE
TZID:Europe/Berlin
BEGIN:DAYLIGHT
TZOFFSETFROM:+0100
TZOFFSETTO:+0200
TZNAME:CEST
DTSTART:20250330T010000
END:DAYLIGHT
BEGIN:STANDARD
TZOFFSETFROM:+0200
TZOFFSETTO:+0100
TZNAME:CET
DTSTART:20251026T010000
END:STANDARD
BEGIN:DAYLIGHT
TZOFFSETFROM:+0100
TZOFFSETTO:+0200
TZNAME:CEST
DTSTART:20260329T010000
END:DAYLIGHT
BEGIN:STANDARD
TZOFFSETFROM:+0200
TZOFFSETTO:+0100
TZNAME:CET
DTSTART:20261025T010000
END:STANDARD
BEGIN:DAYLIGHT
TZOFFSETFROM:+0100
TZOFFSETTO:+0200
TZNAME:CEST
DTSTART:20270328T010000
END:DAYLIGHT
BEGIN:STANDARD
TZOFFSETFROM:+0200
TZOFFSETTO:+0100
TZNAME:CET
DTSTART:20271031T010000
END:STANDARD
END:VTIMEZONE
BEGIN:VEVENT
DTSTART;TZID=Europe/Berlin:20260423T200000
DTEND;TZID=Europe/Berlin:20260423T200000
DTSTAMP:20260423T101145
CREATED:20260107T041003Z
LAST-MODIFIED:20260107T041038Z
UID:5463-1776974400-1776974400@z87.de
SUMMARY:Tribal Vibes - Oldschool Funk
DESCRIPTION:Während der 80er und 90er waren Tribal Vibes fester Bestandteil der Würzburger Musikszene. Lange war es still um die Band\, doch jetzt ist sie zurück. Spätestens seit ihrem gefeierten Auftritt beim Umsonst & Draußen Festival im Sommer 2025 ist klar – diese Band hat nichts von ihrer Power verloren. \nDie zehnköpfige Band „Tribal Vibes“ lässt den Oldschool-Funk aus vier Jahrzehnten erneut hochleben. Dabei interessieren sie sich weniger für die poppigen Motown-Klänge als für den rohen\, energiegeladenen Soul-Sound von Stax Music\, Atlantic Records oder Paisley Park. Harte Beats\, tighte Bläsersätze und der dreistimmige Backgroundgesang der „Vibettes“ verdichten sich zu einer tanzbaren Mischung aus Funk\, R&B und Soul\, bei der keiner lange stillsitzen kann. Wer die Musik von James Brown\, Wilson Pickett\, Ray Charles oder Prince mag\, wird diese Band zu schätzen wissen. \nJoin the Vibe Tribe! \nAbendkasse 20.-
URL:https://z87.de/event/260423/
CATEGORIES:Funk
ATTACH;FMTTYPE=image/jpeg:https://z87.de/wp-content/uploads/2026/01/260423.jpg
END:VEVENT
BEGIN:VEVENT
DTSTART;TZID=Europe/Berlin:20260426T190000
DTEND;TZID=Europe/Berlin:20260426T190000
DTSTAMP:20260423T101145
CREATED:20251112T081248Z
LAST-MODIFIED:20251112T081439Z
UID:5232-1777230000-1777230000@z87.de
SUMMARY:La Yeta - Die Musik Argentiniens kombiniert mit Elementen des Jazz
DESCRIPTION:„La Yeta“ ist ein Duo\, das argentinischer Musik auf ganz besondere Weise Tribut zollt. Die argentinische Sängerin Carolina Attoumani Díaz und der deutsche Pianist Felix Schneider-Restschikow widmen sich mit großer Leidenschaft der Musik Argentiniens – traditionsbewusst\, persönlich und voller Improvisationsfreude. Ihre Musik schöpft aus der reichen Klanglandschaft Südamerikas und verbindet traditionelle Melodien mit Elementen des Jazz. Neben ihrem ausdrucksstarken Gesang bringt Carolina auch die Bombo legüero\, die traditionelle Trommel der argentinischen Folklore\, zum Klingen. La Yeta singt und spielt von Liebe\, Sehnsucht\, Angst und Tod. Ein Abend voller Emotion und kultureller Vielfalt. \nAbendkasse 20.-
URL:https://z87.de/event/260426/
CATEGORIES:Jazz
ATTACH;FMTTYPE=image/jpeg:https://z87.de/wp-content/uploads/2025/11/260426.jpg
ORGANIZER;CN="mainJAZZ":MAILTO:info@mainjazz.de
END:VEVENT
END:VCALENDAR