BEGIN:VCALENDAR
VERSION:2.0
PRODID:-// - ECPv6.15.20//NONSGML v1.0//EN
CALSCALE:GREGORIAN
METHOD:PUBLISH
X-ORIGINAL-URL:https://z87.de
X-WR-CALDESC:Veranstaltungen für 
REFRESH-INTERVAL;VALUE=DURATION:PT1H
X-Robots-Tag:noindex
X-PUBLISHED-TTL:PT1H
BEGIN:VTIMEZONE
TZID:Europe/Berlin
BEGIN:DAYLIGHT
TZOFFSETFROM:+0100
TZOFFSETTO:+0200
TZNAME:CEST
DTSTART:20250330T010000
END:DAYLIGHT
BEGIN:STANDARD
TZOFFSETFROM:+0200
TZOFFSETTO:+0100
TZNAME:CET
DTSTART:20251026T010000
END:STANDARD
BEGIN:DAYLIGHT
TZOFFSETFROM:+0100
TZOFFSETTO:+0200
TZNAME:CEST
DTSTART:20260329T010000
END:DAYLIGHT
BEGIN:STANDARD
TZOFFSETFROM:+0200
TZOFFSETTO:+0100
TZNAME:CET
DTSTART:20261025T010000
END:STANDARD
BEGIN:DAYLIGHT
TZOFFSETFROM:+0100
TZOFFSETTO:+0200
TZNAME:CEST
DTSTART:20270328T010000
END:DAYLIGHT
BEGIN:STANDARD
TZOFFSETFROM:+0200
TZOFFSETTO:+0100
TZNAME:CET
DTSTART:20271031T010000
END:STANDARD
END:VTIMEZONE
BEGIN:VEVENT
DTSTART;TZID=Europe/Berlin:20261204T200000
DTEND;TZID=Europe/Berlin:20261204T200000
DTSTAMP:20260423T154150
CREATED:20260109T033258Z
LAST-MODIFIED:20260109T033347Z
UID:5501-1796414400-1796414400@z87.de
SUMMARY:STOPPOK RUND-Reise – die SOLO-Tour 2026
DESCRIPTION:Es geht RUND: STOPPOK hat Geburtstag und feiert auf den Bühnen des Landes \nReisen bildet. Diese „RUND-Reise“ erst recht. STOPPOK\, der geistreiche Seismograph unseres Landes\, hat 2026 einen runden Geburtstag\, wird 70. Das ist zu schön\, um nicht gefeiert zu werden. Auf einer „RUND-Reise“ durch die Republik\, auf den Live-Bühnen des Landes. seit jeher STOPPOKs Emotions-Revier und natürliches Biotop. \nAlso rein in die Jubel-Touren mit Ecken und Kanten\, mit Herz und Hirn\, mit neuem Album und alten Freunden. Die Text-Gesangs-Gitarre-Ikone präsentiert sich in lässigster Geburtstagslaune. \nEr ist und bleibt das Vorzeigemodell einer ganzen Zunft: Seit 50 Jahren ist STOPPOK als einzigartige Live-Escheinung aus der Frischeabteilung vitaler Songwriterkunst unterwegs\, als unabhängiger Geist „auf festem Grund“\, der sich schon früh zwischen „Geld oder Leben“ entschieden hat\, als herausragender Texter voller Wortwitz\, Weisheit und pointierter Poesie. Von nachlassender Kraft und Idee kann dabei nicht die Rede sein. Ein Indiz: Die beiden letzten Alben\, „Jubel“ und „Teufelsküche“\, landeten unter den Top Five der Media Control Charts. \nSTOPPOK ist ein Sänger und Musiker\, hoch geschätzt von renommierten Kolleginnen und Kollegen\, der loses Mundwerk mit stupendem Handwerk (seine Saiteninstrumente beherrscht er meisterlich mit höchst persönlicher Note) kombiniert. In den vergangenen Jahren ergänzt durch originelles Fußwerk\, wenn er per Fußmaschine seinen in Folk\, Blues und Rock grundiertem Sound mit rhythmischer Dynamik unterfüttert. \nDeshalb kann es sich STOPPOK auch leisten\, solo auf Tour zu gehen\, weil er als Unterhalter\, Musiker und Geschichtenerzähler im Alleingang besteht. Seine akustischen Konzerte sind daher legendär\, für den Künstler selbst „pure Freiheit“. \nIm Dezember steht die Solo-Variante der „RUND-Reise“ durch meist bestuhlte Häuser an. Passend zu einem neuen Song aus dem zur Tour erscheinenden Album: „Je länger wir zusammen geh’n\, umso besser werden wir uns versteh’n“. STOPPOK bleibt dran\, beharrlich\, lustvoll\, launig. Überrascht uns mit besonderen Live-Abenden\, bei denen Spontaneität\, Spott und Seelenmassage triumphieren. Nix gibt sich mit Siebzich. Welch Glück! \n 					 \nAbendkasse 35.-
URL:https://z87.de/event/261204/
CATEGORIES:Singer / Songwriter
ATTACH;FMTTYPE=image/jpeg:https://z87.de/wp-content/uploads/2026/01/261204.jpg
END:VEVENT
BEGIN:VEVENT
DTSTART;TZID=Europe/Berlin:20261206T190000
DTEND;TZID=Europe/Berlin:20261206T190000
DTSTAMP:20260423T154150
CREATED:20251210T042816Z
LAST-MODIFIED:20251210T042816Z
UID:5369-1796583600-1796583600@z87.de
SUMMARY:Sebastian 23 - "Zusammenhaltestelle"
DESCRIPTION:Wer heute jemanden mit „Guten Tag“ begrüßt\, gilt schon als naiver Schönredner und utopischer Träumer. Viele haben vergessen\, dass ein Gespräch sogar noch schöner sein kann\, als Wildfremde im Internet zu beschimpfen. Also\, warum nicht mal das Risiko eingehen\, mit Leuten zu reden\, die eine andere Meinung haben als wir selbst? Womöglich lernen wir etwas dazu und kommen gemeinsam weiter. Ansonsten gehen wir wieder nach Hause und beschimpfen uns im Netz. \nSebastian 23 sagt weit mehr als „Guten Tag“. Der Komiker\, Poetry Slammer\, Aktivist und Bestsellerautor präsentiert mit Zusammenhaltestelle sein bereits zehntes Soloprogramm. Und weil ich ein Werbetext bin\, sag ich es ganz offen: Sebastian 23 hat Anfang 2025 völlig zurecht den Deutschen Kabarettpreis gewonnen\, stand auf tausenden Bühnen – und Hunderttausende folgen ihm für seine täglichen satirischen Beiträge in den sozialen Medien. \nZusammenhaltestelle ist jedoch mehr als ein Kabarettprogramm – es ist ein Plädoyer für Optimismus\, Empathie und den Mut\, gemeinsam neue Wege zu gehen. Das klingt nach Pathos\, der dringend ironisch gebrochen werden sollte. Oder ist das nur ein kommunikativer Trick? Finden wir es gemeinsam heraus! \nDas gleichnamige Buch Zusammenhaltestelle erscheint im März 2026 im bene-Verlag. \nWeitere Informationen und Tourtermine unter: www.sebastian23.org \nTickets online
URL:https://z87.de/event/261206/
ATTACH;FMTTYPE=image/jpeg:https://z87.de/wp-content/uploads/2025/12/261206.jpg
END:VEVENT
BEGIN:VEVENT
DTSTART;TZID=Europe/Berlin:20261208T200000
DTEND;TZID=Europe/Berlin:20261208T200000
DTSTAMP:20260423T154150
CREATED:20251218T051857Z
LAST-MODIFIED:20251218T051936Z
UID:5416-1796760000-1796760000@z87.de
SUMMARY:Black Music Tuesday
DESCRIPTION:Wir machen den Keller zur Disco! \nDJ Oscar legt schwarzes Gold auf- mit einer tanzbaren Mischung aus Funk\, R&B und Soul\, bei der keiner lange stillsitzen kann.  \nWer die Musik von James Brown\, Wilson Picket\, Ray Charles oder Prince mag\, wird unseren Z87 – Black Musik Thursday zu schätzen wissen. \nBeginn: 20 Uhr – Eintritt frei
URL:https://z87.de/event/261208/
CATEGORIES:Disco
ATTACH;FMTTYPE=image/jpeg:https://z87.de/wp-content/uploads/2025/12/261208.jpg
END:VEVENT
END:VCALENDAR