BEGIN:VCALENDAR
VERSION:2.0
PRODID:-// - ECPv6.15.20//NONSGML v1.0//EN
CALSCALE:GREGORIAN
METHOD:PUBLISH
X-ORIGINAL-URL:https://z87.de
X-WR-CALDESC:Veranstaltungen für 
REFRESH-INTERVAL;VALUE=DURATION:PT1H
X-Robots-Tag:noindex
X-PUBLISHED-TTL:PT1H
BEGIN:VTIMEZONE
TZID:Europe/Berlin
BEGIN:DAYLIGHT
TZOFFSETFROM:+0100
TZOFFSETTO:+0200
TZNAME:CEST
DTSTART:20250330T010000
END:DAYLIGHT
BEGIN:STANDARD
TZOFFSETFROM:+0200
TZOFFSETTO:+0100
TZNAME:CET
DTSTART:20251026T010000
END:STANDARD
BEGIN:DAYLIGHT
TZOFFSETFROM:+0100
TZOFFSETTO:+0200
TZNAME:CEST
DTSTART:20260329T010000
END:DAYLIGHT
BEGIN:STANDARD
TZOFFSETFROM:+0200
TZOFFSETTO:+0100
TZNAME:CET
DTSTART:20261025T010000
END:STANDARD
BEGIN:DAYLIGHT
TZOFFSETFROM:+0100
TZOFFSETTO:+0200
TZNAME:CEST
DTSTART:20270328T010000
END:DAYLIGHT
BEGIN:STANDARD
TZOFFSETFROM:+0200
TZOFFSETTO:+0100
TZNAME:CET
DTSTART:20271031T010000
END:STANDARD
END:VTIMEZONE
BEGIN:VEVENT
DTSTART;TZID=Europe/Berlin:20261013T200000
DTEND;TZID=Europe/Berlin:20261013T200000
DTSTAMP:20260423T125752
CREATED:20251218T051546Z
LAST-MODIFIED:20251218T051639Z
UID:5410-1791921600-1791921600@z87.de
SUMMARY:Black Music Tuesday
DESCRIPTION:Wir machen den Keller zur Disco! \nDJ Oscar legt schwarzes Gold auf- mit einer tanzbaren Mischung aus Funk\, R&B und Soul\, bei der keiner lange stillsitzen kann.  \nWer die Musik von James Brown\, Wilson Picket\, Ray Charles oder Prince mag\, wird unseren Z87 – Black Musik Thursday zu schätzen wissen. \nBeginn: 20 Uhr – Eintritt frei
URL:https://z87.de/event/261013/
CATEGORIES:Disco
ATTACH;FMTTYPE=image/jpeg:https://z87.de/wp-content/uploads/2025/12/261013.jpg
END:VEVENT
BEGIN:VEVENT
DTSTART;TZID=Europe/Berlin:20261028T200000
DTEND;TZID=Europe/Berlin:20261028T200000
DTSTAMP:20260423T125752
CREATED:20260204T022652Z
LAST-MODIFIED:20260204T022931Z
UID:5648-1793217600-1793217600@z87.de
SUMMARY:Krashkarma - ENTER THE EXIT TOUR 2026
DESCRIPTION:KRASHKARMA ist weit mehr als nur eine Metal-Band – sie sind eine Naturgewalt. Mit über 7 Millionen YouTube-Views\, 230.000 Facebook Followern und mehr als 800 Shows weltweit hat sich das Ausnahme-Duo aus Los Angeles einen festen Platz in der Szene erobert. \nIm Zentrum steht die charismatische Niki Skistimas\, die als Schlagzeugerin und Sängerin mit explosiven Beats die Bühne dominiert. An ihrer Seite: Ralf Dietel (WIZO)\, kreativer Kopf der Band\, der mit seiner einzigartigen Gitarren-Bass-Hybride schwere Riffs\, mächtige Basslines und kraftvolle Vocals serviert. \nIm September 2026 erscheint das neue Album ENTER THE EXIT. Auf der darauffolgenden Tour sprengen sie gemeinsam die Grenzen dessen\, was man von nur zwei Musikern erwartet – und beweiseneindrucksvoll\, dass Metal keine Grenzen kennt. \nPressestimmen:„Geben bei jeder Show 200%“ Rock You Magazin“Ein unvergesslicher Auftritt dieses dynamischen Duos“ All Music Magazine„Übertrifft alle Erwartungen!“ Zwaren Metalen“Die Band hat das Publikum begeistert zurückgelassen!“ Deranged Media„Dieses energiegeladene Team ist einfach ansteckend.“ Ghost Cult Magazine“Einer der eingängigsten Rock-Metal-Sounds\, die ich JE gehört habe.” Battlehelm Mag„Platte des Monates“ Rock City News \nTickets
URL:https://z87.de/event/261028/
ATTACH;FMTTYPE=image/jpeg:https://z87.de/wp-content/uploads/2026/02/261028.jpg
END:VEVENT
END:VCALENDAR