BEGIN:VCALENDAR
VERSION:2.0
PRODID:-// - ECPv6.15.20//NONSGML v1.0//EN
CALSCALE:GREGORIAN
METHOD:PUBLISH
X-ORIGINAL-URL:https://z87.de
X-WR-CALDESC:Veranstaltungen für 
REFRESH-INTERVAL;VALUE=DURATION:PT1H
X-Robots-Tag:noindex
X-PUBLISHED-TTL:PT1H
BEGIN:VTIMEZONE
TZID:Europe/Berlin
BEGIN:DAYLIGHT
TZOFFSETFROM:+0100
TZOFFSETTO:+0200
TZNAME:CEST
DTSTART:20250330T010000
END:DAYLIGHT
BEGIN:STANDARD
TZOFFSETFROM:+0200
TZOFFSETTO:+0100
TZNAME:CET
DTSTART:20251026T010000
END:STANDARD
BEGIN:DAYLIGHT
TZOFFSETFROM:+0100
TZOFFSETTO:+0200
TZNAME:CEST
DTSTART:20260329T010000
END:DAYLIGHT
BEGIN:STANDARD
TZOFFSETFROM:+0200
TZOFFSETTO:+0100
TZNAME:CET
DTSTART:20261025T010000
END:STANDARD
BEGIN:DAYLIGHT
TZOFFSETFROM:+0100
TZOFFSETTO:+0200
TZNAME:CEST
DTSTART:20270328T010000
END:DAYLIGHT
BEGIN:STANDARD
TZOFFSETFROM:+0200
TZOFFSETTO:+0100
TZNAME:CET
DTSTART:20271031T010000
END:STANDARD
END:VTIMEZONE
BEGIN:VEVENT
DTSTART;TZID=Europe/Berlin:20260908T200000
DTEND;TZID=Europe/Berlin:20260908T200000
DTSTAMP:20260423T114202
CREATED:20251218T051336Z
LAST-MODIFIED:20251218T051420Z
UID:5407-1788897600-1788897600@z87.de
SUMMARY:Black Music Tuesday
DESCRIPTION:Wir machen den Keller zur Disco! \nDJ Oscar legt schwarzes Gold auf- mit einer tanzbaren Mischung aus Funk\, R&B und Soul\, bei der keiner lange stillsitzen kann.  \nWer die Musik von James Brown\, Wilson Picket\, Ray Charles oder Prince mag\, wird unseren Z87 – Black Musik Thursday zu schätzen wissen. \nBeginn: 20 Uhr – Eintritt frei
URL:https://z87.de/event/260908/
CATEGORIES:Disco
ATTACH;FMTTYPE=image/jpeg:https://z87.de/wp-content/uploads/2025/12/260908.jpg
END:VEVENT
BEGIN:VEVENT
DTSTART;TZID=Europe/Berlin:20260915T190700
DTEND;TZID=Europe/Berlin:20260915T190700
DTSTAMP:20260423T114202
CREATED:20260318T082644Z
LAST-MODIFIED:20260318T085731Z
UID:5788-1789499220-1789499220@z87.de
SUMMARY:70 Jahre Uwe Dolata – Jubiläumsabend im Keller Z87
DESCRIPTION:Am 15. September wird im Keller Z87 ein ganz besonderer Anlass gefeiert: Uwe Dolata wird 70 – und das natürlich mit Musik! \nZum Auftakt des Abends sorgt eine Überraschungsband für den ersten musikalischen Höhepunkt. Im Anschluss öffnet sich die Bühne für eine Open Session: Alle Musikerinnen und Musiker\, die schon einmal im Keller Z87 gespielt haben\, sind herzlich eingeladen\, ihr Instrument mitzubringen und Teil dieses besonderen Abends zu werden. \nEin Fest für Wegbegleiter\, Freund:innen und die gesamte Szene – spontan\, lebendig und ganz im Geist des Hauses. \nEintritt frei – Spenden erwünscht (zugunsten Förderverein Z87)
URL:https://z87.de/event/260915/
ATTACH;FMTTYPE=image/jpeg:https://z87.de/wp-content/uploads/2026/03/260915.jpg
END:VEVENT
BEGIN:VEVENT
DTSTART;TZID=Europe/Berlin:20260917T200000
DTEND;TZID=Europe/Berlin:20260917T200000
DTSTAMP:20260423T114202
CREATED:20250722T021602Z
LAST-MODIFIED:20251007T073758Z
UID:4660-1789675200-1789675200@z87.de
SUMMARY:Generation XY: Die 80er\, die 90er und das Leben heute - Die Comedy-Show von Olaf Bossi
DESCRIPTION:Nostalgie trifft Lachflash – und die ganz normale Lebenskrise ab 40! \nOlaf Bossi – preisgekrönter Comedian\, Musiker („Das Modul“) und Familienmensch – nimmt dich mit auf eine rasante Zeitreise von Telefonzelle bis Sportuhr\, von VHS bis WhatsApp\, von Buffalos bis Bandscheibenvorfall. Erinnerst du dich noch an Dia-Abende\, Bravo-Starschnitt und Viva TV? Klar! Aber heute geht’s auch um Schlafstörungen\, Arzttermine\, EMS-Training und das Gefühl\, irgendwie nicht alt zu sein – obwohl der Hometrainer keine Pulsanzeige mehr hat. \nDiese Show ist keine reine Retro-Party – sie ist therapeutisches Gruppenkichern für alle über 40\, die früher Nummern auswendig konnten und heute vergessen\, warum sie ins Wohnzimmer gegangen sind. Mit viel Humor\, Musik und Selbstironie zeigt Olaf: Unser Leben ist ein Greatest-Hits-Album mit Bonus-Tracks – manchmal laut\, manchmal schräg\, aber immer zum Lachen. \nJetzt Tickets sichern – für alle\, die wissen\, wie sich ein echter 80/90er-Hit anfühlt. \nAbendkasse 30.-
URL:https://z87.de/event/260917/
CATEGORIES:Kabarett
ATTACH;FMTTYPE=image/jpeg:https://z87.de/wp-content/uploads/2025/07/260917.jpg
END:VEVENT
END:VCALENDAR