BEGIN:VCALENDAR
VERSION:2.0
PRODID:-// - ECPv6.15.20//NONSGML v1.0//EN
CALSCALE:GREGORIAN
METHOD:PUBLISH
X-ORIGINAL-URL:https://z87.de
X-WR-CALDESC:Veranstaltungen für 
REFRESH-INTERVAL;VALUE=DURATION:PT1H
X-Robots-Tag:noindex
X-PUBLISHED-TTL:PT1H
BEGIN:VTIMEZONE
TZID:Europe/Berlin
BEGIN:DAYLIGHT
TZOFFSETFROM:+0100
TZOFFSETTO:+0200
TZNAME:CEST
DTSTART:20250330T010000
END:DAYLIGHT
BEGIN:STANDARD
TZOFFSETFROM:+0200
TZOFFSETTO:+0100
TZNAME:CET
DTSTART:20251026T010000
END:STANDARD
BEGIN:DAYLIGHT
TZOFFSETFROM:+0100
TZOFFSETTO:+0200
TZNAME:CEST
DTSTART:20260329T010000
END:DAYLIGHT
BEGIN:STANDARD
TZOFFSETFROM:+0200
TZOFFSETTO:+0100
TZNAME:CET
DTSTART:20261025T010000
END:STANDARD
BEGIN:DAYLIGHT
TZOFFSETFROM:+0100
TZOFFSETTO:+0200
TZNAME:CEST
DTSTART:20270328T010000
END:DAYLIGHT
BEGIN:STANDARD
TZOFFSETFROM:+0200
TZOFFSETTO:+0100
TZNAME:CET
DTSTART:20271031T010000
END:STANDARD
END:VTIMEZONE
BEGIN:VEVENT
DTSTART;TZID=Europe/Berlin:20260702T200000
DTEND;TZID=Europe/Berlin:20260702T200000
DTSTAMP:20260419T191456
CREATED:20260319T015511Z
LAST-MODIFIED:20260319T061738Z
UID:5806-1783022400-1783022400@z87.de
SUMMARY:Die Neuendorf singt Lindenberg - die Dröhnlandsinfoniker spielen
DESCRIPTION:„Eine muss den Job ja machen“\, denkt sich Sängerin & Lyrikerin Marion Neuendorf und erweckt mit einer galaktischen Nicht-Rentnerband ganz ohne Plan B die alten Phantasiegestalten aus Udos Liedern zu neuem Leben: \nRudi Ratlos spielt vielleicht auch Cello\, während Elli Pirelli vom Regensburger Opernhaus in der ersten Reihe sitzt und Reggae Maggea mit den Heizern die Bühne rockt. Ricki Maserati kommt diesmal mit dem Sonderzug zu Onkel Pö\, wo alle eigentlich ganz anders sind\, und schließlich mit Gerhard Gösebrecht zu seinem Planeten aufbrechen… \nMal sehen\, was die Zeit so aus uns macht\, und ob mit love and peace als einzig wahrer Währung nicht doch ein Herz zu reparieren ist. \nDie Musiker machen dabei einfach ihr Ding\, denn das trägt auch durch die schweren Zeiten. Auch wenn sie nicht mehr 40 sind wissen sie doch alle: hinterm Horizont geht’s weiter! \nAlles klar ? \nDann kommt\, und feiert mit in Udos Jubiläumsjahr! \nIn wechselnder Besetzung für Euch als KosmosBand liebe-voll am Start: \nChris Adam / Joe Krieg (git)\, Harald Tempel (bass)\, Friedel Lelonek / Rüz Löser (drums) \nund immer:  die Marionautin 😎 \nTickets\nAbendkasse reg. 25.- / erm. 20.-
URL:https://z87.de/event/260702/
CATEGORIES:Rock / Pop
ATTACH;FMTTYPE=image/jpeg:https://z87.de/wp-content/uploads/2026/03/260702-1.jpg
END:VEVENT
BEGIN:VEVENT
DTSTART;TZID=Europe/Berlin:20260709T190000
DTEND;TZID=Europe/Berlin:20260709T190000
DTSTAMP:20260419T191456
CREATED:20260317T073155Z
LAST-MODIFIED:20260317T073248Z
UID:5783-1783623600-1783623600@z87.de
SUMMARY:Commissario Dolata - "Die Spur des Geldes"
DESCRIPTION:Es gibt Ermittler\, die Verbrecher jagen. Und es gibt Ermittler\, die ihrem Geld folgen. Kriminologe Dr. Uwe Dolata gehörte zur zweiten Sorte. Für viele galt er als der Experte für Wirtschaftskriminalität – für Finanzverschleierung\, Geldwäsche und Korruption. Sein Grundsatz war so schlicht wie gnadenlos: Folge der Spur des Geldes – und du findest die Spinne im Netz. Ein anderer Satz von ihm wurde unter Ermittlern legendär:„Frage nicht die Frösche\, wenn du den Sumpf trockenlegen willst.“ \nWährend seine Heimatstadt zeitweise den zweifelhaften Ruf erlangte\, die „Hauptstadt der Kapitalanlagebetrüger“ zu sein\, arbei­tete Dolata daran\, die Netzwerke hinter den Fassaden aufzudecken. Konten\, Stroh­männer\, Offshorefirmen – für ihn waren sie keine Zahlenkolonnen\, sondern Spuren. Seine Fähigkeiten blieben nicht unbemerkt. Schließlich wurde er vom Bundeskriminal­amt als Finanzermittler in die Sonder­kommission Nine/Eleven berufen. Doch wer den Geldströmen folgt\, betritt dunkles Terrain.Dort\, wo Macht\, Gier und Angst zusammenkommen. In dieser konzertanten Erzählung lässt Commissario Dolata die schwarzen Seelen knistern – und zeigt\, dass jede Uberweisung eine Geschichte erzählt. \nTickets\nAbendkasse 8.-
URL:https://z87.de/event/260709/
CATEGORIES:Lesung
ATTACH;FMTTYPE=image/jpeg:https://z87.de/wp-content/uploads/2026/03/260709.jpg
END:VEVENT
END:VCALENDAR