BEGIN:VCALENDAR
VERSION:2.0
PRODID:-// - ECPv6.15.20//NONSGML v1.0//EN
CALSCALE:GREGORIAN
METHOD:PUBLISH
X-ORIGINAL-URL:https://z87.de
X-WR-CALDESC:Veranstaltungen für 
REFRESH-INTERVAL;VALUE=DURATION:PT1H
X-Robots-Tag:noindex
X-PUBLISHED-TTL:PT1H
BEGIN:VTIMEZONE
TZID:Europe/Berlin
BEGIN:DAYLIGHT
TZOFFSETFROM:+0100
TZOFFSETTO:+0200
TZNAME:CEST
DTSTART:20250330T010000
END:DAYLIGHT
BEGIN:STANDARD
TZOFFSETFROM:+0200
TZOFFSETTO:+0100
TZNAME:CET
DTSTART:20251026T010000
END:STANDARD
BEGIN:DAYLIGHT
TZOFFSETFROM:+0100
TZOFFSETTO:+0200
TZNAME:CEST
DTSTART:20260329T010000
END:DAYLIGHT
BEGIN:STANDARD
TZOFFSETFROM:+0200
TZOFFSETTO:+0100
TZNAME:CET
DTSTART:20261025T010000
END:STANDARD
BEGIN:DAYLIGHT
TZOFFSETFROM:+0100
TZOFFSETTO:+0200
TZNAME:CEST
DTSTART:20270328T010000
END:DAYLIGHT
BEGIN:STANDARD
TZOFFSETFROM:+0200
TZOFFSETTO:+0100
TZNAME:CET
DTSTART:20271031T010000
END:STANDARD
END:VTIMEZONE
BEGIN:VEVENT
DTSTART;TZID=Europe/Berlin:20260609T200000
DTEND;TZID=Europe/Berlin:20260609T200000
DTSTAMP:20260419T175803
CREATED:20251218T050819Z
LAST-MODIFIED:20251218T050900Z
UID:5404-1781035200-1781035200@z87.de
SUMMARY:Black Music Tuesday
DESCRIPTION:Wir machen den Keller zur Disco! \nDJ Oscar legt schwarzes Gold auf- mit einer tanzbaren Mischung aus Funk\, R&B und Soul\, bei der keiner lange stillsitzen kann.  \nWer die Musik von James Brown\, Wilson Picket\, Ray Charles oder Prince mag\, wird unseren Z87 – Black Musik Thursday zu schätzen wissen. \nBeginn: 20 Uhr – Eintritt frei
URL:https://z87.de/event/260609/
CATEGORIES:Disco
ATTACH;FMTTYPE=image/jpeg:https://z87.de/wp-content/uploads/2025/12/260609.jpg
END:VEVENT
BEGIN:VEVENT
DTSTART;TZID=Europe/Berlin:20260614T190000
DTEND;TZID=Europe/Berlin:20260614T190000
DTSTAMP:20260419T175803
CREATED:20260319T012454Z
LAST-MODIFIED:20260319T013146Z
UID:5801-1781463600-1781463600@z87.de
SUMMARY:Jazzchor Würzburg - "human heart"
DESCRIPTION:Der Jazzchor Würzburg lädt mit seinem Programm „human heart“ zu einer musikalischen Reise ein\, in der es um nichts anderes geht als das menschliche Herz und alle Gefühle\, die damit verbunden sind. Sehnsucht\, Wut\, Trauer\, Hoffnung und Liebe. Mal wird es zum politischen Symbol\, etwa im iranischen Protest-song „Baraye“\, das die Sehnsucht nach Freiheit spürbar macht. Mal beschreibt es die Energie\, die entsteht\, wenn wir menschlich handeln und auch die Kraft\, wenn sich viele Stimmen vereinen. In Stücken wie „Armor“ von Sara Bareilles steht das Herz für Stärke\, Verletzlichkeit und Selbstbehauptung. Mal spielerisch\, mal tiefgründig und mal hoffnungsvoll. \nSo entsteht ein stimmungsvoller Abend\, bei dem das Herz im Rhythmus moderner Popmusik schlägt. Mit A-cappella Gesang auf hohem musikalischem Niveau\, großartigen Harmonien und mitreißenden Rhythmen. Unter der Leitung von Franny Fuchs entwickelt der Chor jedes Mal wieder eine besondere Mischung aus unterschiedlichen Genren\, emotionaler Tiefe und einer legendären\, lebendigen Bühnenpräsenz\, die jedes Konzert zu einem intensiven Erlebnis macht. \n.„human heart“ wird damit zu einem musikalischen Symbol für das\, was uns als Menschen verbindet. Liebe\, gemeinsames Erleben und die Freude an der Musik. \nTickets\nAbendkasse reg. 20.- / erm. 15.-
URL:https://z87.de/event/260614/
CATEGORIES:Jazz
ATTACH;FMTTYPE=image/jpeg:https://z87.de/wp-content/uploads/2026/03/260614.jpg
END:VEVENT
BEGIN:VEVENT
DTSTART;TZID=Europe/Berlin:20260625T200000
DTEND;TZID=Europe/Berlin:20260625T200000
DTSTAMP:20260419T175803
CREATED:20251008T024558Z
LAST-MODIFIED:20251127T061551Z
UID:5056-1782417600-1782417600@z87.de
SUMMARY:Prädikat V - Contemporary Jazz
DESCRIPTION:Sprache ist Alltag und Leben\, Kommunikationsmittel als Grundlage für Informationsaustausch jeglicher Art. \nAus verschiedenen Dialekten\, Wörterbüchern\, Lebensgeschichten und Online-Chats bildete sich eine Formation heraus\, die sich Prädikat V nennt. Fünf Subjekte suchen im Prädikat die gemeinsamen Akkusativobjekte. Durch eine zeitgenössische Formensprache\, freie Improvisationen sowie verschiedene Kompositionsmethoden vereint Künstler und Musiker Simon Bauer seine Vision von Contemporary Jazz und Videoarbeiten mit den Gedichten von Katharina Püschel zu multimedialen Jazzwerken. Basierend auf der Idee eines fehlenden Harmonieinstruments erscheint nun das zweite Album dieser Konstellation.Wie klingt es\, wenn sich fünf Personen gemeinsamen für einen Abend unterhalten? \nBesetzung:Katharina Püschel – GesangFilip Kostláni – TenorsaxophonRaphael Greil – TrompeteMoritz Holdenried – BassSimon Bauer – Schlagzeug \nAbendkasse 20.-
URL:https://z87.de/event/260625/
CATEGORIES:Jazz
ATTACH;FMTTYPE=image/jpeg:https://z87.de/wp-content/uploads/2025/10/260625.jpg
ORGANIZER;CN="mainJAZZ":MAILTO:info@mainjazz.de
END:VEVENT
END:VCALENDAR