BEGIN:VCALENDAR
VERSION:2.0
PRODID:-// - ECPv6.15.20//NONSGML v1.0//EN
CALSCALE:GREGORIAN
METHOD:PUBLISH
X-ORIGINAL-URL:https://z87.de
X-WR-CALDESC:Veranstaltungen für 
REFRESH-INTERVAL;VALUE=DURATION:PT1H
X-Robots-Tag:noindex
X-PUBLISHED-TTL:PT1H
BEGIN:VTIMEZONE
TZID:Europe/Berlin
BEGIN:DAYLIGHT
TZOFFSETFROM:+0100
TZOFFSETTO:+0200
TZNAME:CEST
DTSTART:20250330T010000
END:DAYLIGHT
BEGIN:STANDARD
TZOFFSETFROM:+0200
TZOFFSETTO:+0100
TZNAME:CET
DTSTART:20251026T010000
END:STANDARD
BEGIN:DAYLIGHT
TZOFFSETFROM:+0100
TZOFFSETTO:+0200
TZNAME:CEST
DTSTART:20260329T010000
END:DAYLIGHT
BEGIN:STANDARD
TZOFFSETFROM:+0200
TZOFFSETTO:+0100
TZNAME:CET
DTSTART:20261025T010000
END:STANDARD
BEGIN:DAYLIGHT
TZOFFSETFROM:+0100
TZOFFSETTO:+0200
TZNAME:CEST
DTSTART:20270328T010000
END:DAYLIGHT
BEGIN:STANDARD
TZOFFSETFROM:+0200
TZOFFSETTO:+0100
TZNAME:CET
DTSTART:20271031T010000
END:STANDARD
END:VTIMEZONE
BEGIN:VEVENT
DTSTART;TZID=Europe/Berlin:20260301T190000
DTEND;TZID=Europe/Berlin:20260301T190000
DTSTAMP:20260419T163925
CREATED:20260219T110430Z
LAST-MODIFIED:20260219T110430Z
UID:5724-1772391600-1772391600@z87.de
SUMMARY:65. Gypsy Jazz Jam Session - Opener: Gare du Jazz (F)
DESCRIPTION:Das Quartett Gare du Jazz steht für modernen Jazz Manouche mit Charakter. In der Besetzung Serge Donkersloot (Klarinette\, Sopran-Saxophon)\, Henry Eipl (Solo-Gitarre)\, Sebastian Rudolpho Christ (Rhythmus-Gitarre) und Francis Maheaux  (Kontrabass) verbinden sich virtuoses Spiel und feines Zusammenspiel zu einem unverwechselbaren Sound. Traditionsbewusst und zeitgemäß zugleich.  \nDas Repertoire umfasst Eigenkompositionen von Henry Eipl und Serge Donkersloot sowie Stücke aus der Tradition von Django Reinhardt – erweitert um Einflüsse aus Latin\, Hardbop und zeitgenössischem Jazz. So entsteht Musik voller Energie\, Leichtigkeit und Spielfreude. \nAblauf: Die opener Band „Gare du Jazz“ spielt für euch ab 19:00 Uhr ein kleines opener Konzert\, danach können Muszierende auf akustischen Instrumenten wechselweise einsteigen. Die Combo INSWINGTIEF steht dann natürlich auch parat. Wer  schon ein bißchen üben möchte: Die opener Stücke sind dieses Mal:  \n\nTopsy (in Amin)\nI Love you (in F)\nBei Dir war es immer so schön (in G)\n\nEintritt frei – Spenden erbeten.
URL:https://z87.de/event/260301/
CATEGORIES:Jazz
ATTACH;FMTTYPE=image/jpeg:https://z87.de/wp-content/uploads/2026/02/260301.jpg
ORGANIZER;CN="mainJAZZ":MAILTO:info@mainjazz.de
END:VEVENT
BEGIN:VEVENT
DTSTART;TZID=Europe/Berlin:20260305T200000
DTEND;TZID=Europe/Berlin:20260305T200000
DTSTAMP:20260419T163925
CREATED:20250816T062040Z
LAST-MODIFIED:20250816T062117Z
UID:4720-1772740800-1772740800@z87.de
SUMMARY:Twisted Rose - rock hurricane from lower franconia
DESCRIPTION:Twisted Rose rockt seit 2018 die internationalen Bühnen und hatte mit ihren Veröffentlichungen bereits mehrere Erfolge. Unter anderem Nummer 3 in den mexikanischen Charts\, Nummer 10 in den spanischen Charts und mehrere Bestsellerpositionen in den Amazon-Verkaufscharts.\nWer ist spezifisch verdreht Rose? An der Spitze steht und verzaubert der charmante\, kraftvoll stimmhafte Sänger Caro\, neben Chris Bones on the guitar\, Bass Player AlfRed und Schlagzeuger Luggy.\nIhre ersten Live-Erfolgen erzielten sie unter anderem mit ihrem Auftritt beim Wrestling-Event „Extreme“\, wo sie die Fans mit ihrem harten Rock-Sound von diesem harten Sport überzeugen konnten. Die Affinität zum Wrestling ist kein Zufall\, schließlich war Gitarrist Chris Bones selbst einst ein Profi-Wrestler. Neben der Musik arbeitet er in einem Feld\, das oft in die Texte verschiedener Rock- und Metal-Bands eingepasst hat:\nEr ist der Manager eines Bestattungsunternehmens. Man könnte denken\, dass es hier eine oder andere Inspiration für Texte geben sollte. Twisted Rose steht seit 2020 mit dem Label 7us / 7hard unter Vertrag. Twisted Rose war auch der Auftakt der bekannten Band „GraveDigger“.\nMit dem Geist ihrer Idole und dem Sound von heute präsentieren die Hardrocker ihre Songs\, die nicht vor dem Vergleich mit altbewährten Formationen des Genres zurückschrecken müssen.\nIhre energiegeladene Show\, die die Fans ins Schwitzen und Rock-Küken eskalieren lässt\, ist jetzt sehr gut bekannt. \nAbendkasse 20.-
URL:https://z87.de/event/260305/
CATEGORIES:Rock / Pop
ATTACH;FMTTYPE=image/jpeg:https://z87.de/wp-content/uploads/2025/08/260305.jpg
END:VEVENT
BEGIN:VEVENT
DTSTART;TZID=Europe/Berlin:20260307T200000
DTEND;TZID=Europe/Berlin:20260307T200000
DTSTAMP:20260419T163925
CREATED:20260303T040751Z
LAST-MODIFIED:20260305T021652Z
UID:5743-1772913600-1772913600@z87.de
SUMMARY:LatinFlow – Karibische Nacht im Keller Z87
DESCRIPTION:Am 7. März bringt LatinFlow die Tropen wieder nach Würzburg!\nDer Keller Z87 verwandelt sich in einen karibischen Kurzurlaubsort – mit warmem Flair\, heißen Rhythmen und ausgelassener Partystimmung. \nWir feiern eine unvergessliche Latin-Party mit Dembow\, Reggaetón\, Salsa\, Bachata und Merengue.\nAn den Turntables: DJ Sonrisa aus der Dominikanischen Republik – authentische Beats und mitreißende Tanzmomente garantiert. \nLatinFlow – die Nacht\, in der Würzburg tanzt wie in der Karibik. \nTickets gibt es nur an der Abendkasse.
URL:https://z87.de/event/260307/
CATEGORIES:Disco
ATTACH;FMTTYPE=image/jpeg:https://z87.de/wp-content/uploads/2026/03/260307.jpg
END:VEVENT
BEGIN:VEVENT
DTSTART;TZID=Europe/Berlin:20260308T190000
DTEND;TZID=Europe/Berlin:20260308T190000
DTSTAMP:20260419T163925
CREATED:20260217T143124Z
LAST-MODIFIED:20260218T025451Z
UID:5678-1772996400-1772996400@z87.de
SUMMARY:Duo DoubleOne
DESCRIPTION:Double One\, ein Duo\, das sich mit den bekanntesten und besten Oldie-Songs aus den 60er bis 90ern seit über 15 Jahren einen besonderen Namen in der fränkischen Musikszene gemacht hat.\nDas Duo mit Gunter Jüttner (Vultures\, Starlights\, Sweetwater\, Kleeblatt) und Wolfgang „Mike“ Popp (Sunset\, Albatros\, Shakers Five\, Kleeblatt\, Wirsching&Krauts) spielen alle Songs absolutely live z.B. von den Beatles\, Tom Petty\, Neil Young\, Pink Floyd\, Travelling Willburies\, Elvis\, u.v. andere mehr. \nGunter Jüttner: Gitarre\, Mundharmonika\, Fußschlagzeug\, Gesang\nWolfgang „Mike“ Popp: Bass\, Gesang \nAbendkasse 20.-
URL:https://z87.de/event/260308/
CATEGORIES:Rock / Pop
ATTACH;FMTTYPE=image/jpeg:https://z87.de/wp-content/uploads/2026/02/260308.jpg
END:VEVENT
BEGIN:VEVENT
DTSTART;TZID=Europe/Berlin:20260310T200000
DTEND;TZID=Europe/Berlin:20260310T200000
DTSTAMP:20260419T163925
CREATED:20251218T050259Z
LAST-MODIFIED:20251218T050334Z
UID:5395-1773172800-1773172800@z87.de
SUMMARY:Black Music Tuesday
DESCRIPTION:Wir machen den Keller zur Disco! \nDJ Oscar legt schwarzes Gold auf- mit einer tanzbaren Mischung aus Funk\, R&B und Soul\, bei der keiner lange stillsitzen kann.  \nWer die Musik von James Brown\, Wilson Picket\, Ray Charles oder Prince mag\, wird unseren Z87 – Black Musik Thursday zu schätzen wissen. \nBeginn: 20 Uhr – Eintritt frei
URL:https://z87.de/event/260310/
CATEGORIES:Disco
ATTACH;FMTTYPE=image/jpeg:https://z87.de/wp-content/uploads/2025/12/260310.jpg
END:VEVENT
BEGIN:VEVENT
DTSTART;TZID=Europe/Berlin:20260311T200000
DTEND;TZID=Europe/Berlin:20260311T200000
DTSTAMP:20260419T163925
CREATED:20251203T044816Z
LAST-MODIFIED:20251203T044914Z
UID:5307-1773259200-1773259200@z87.de
SUMMARY:Die Regierung - Die einzig wahre deutschsprachige Americana-Band
DESCRIPTION:Tilman Rossmy und seine Band Die Regierung kommen nach Würzburg!\nDie einzig wahre deutschsprachige Americana-Band\, von der wir uns etwas über die Liebe erzählen lassen.\nIm Februar 2026 erscheint ihr bereits neuntes Studioalbium „Immer unbekannt“.\nDas bereits fünfte Album auf dem Berliner Label Staatsakt!					 \nAbendkasse 27.-
URL:https://z87.de/event/260311/
CATEGORIES:Folk
ATTACH;FMTTYPE=image/jpeg:https://z87.de/wp-content/uploads/2025/12/260311.jpg
END:VEVENT
BEGIN:VEVENT
DTSTART;TZID=Europe/Berlin:20260312T200000
DTEND;TZID=Europe/Berlin:20260312T200000
DTSTAMP:20260419T163925
CREATED:20260223T073103Z
LAST-MODIFIED:20260303T060420Z
UID:5730-1773345600-1773345600@z87.de
SUMMARY:muralim - jazzige Grooves und unbändige Spielfreude
DESCRIPTION:muralim ist wie Barfuss im Sand\, wie ein Sprung ins kalte Wasser im Sommer\, wie der erste Kaffee am Morgen. muralim ist Musik für Herz und Bauch und steht für die Momente\, in denen man alles vergisst und nur das Hier und Jetzt zählt.  Die Band hat sich während ihres Studiums an der Zürcher Hochschule der Künste kennengelernt und wurde bereits kurz darauf in die „Best of Swiss Jazz Bachelors“-Reihe berufen. Die Musik stammt aus der Feder des Saxophonisten Mauro Reimann und wird beim gemeinsamen Jammen durch die Einflüsse aller Bandmitglieder weiterentwickelt. Dabei entsteht Musik\, der man sich kaum entziehen kann. Die Melodien sind eingängig und gleichzeitig raffiniert\, die Grooves laden zum Mitwippen ein und die unbändige Spielfreude der Band lässt die Luft über der Bühne knistern. \nMauro Reimann – Saxophon\, KompositionJoachim Frey – GitarreTim Bond – Klavier\, SynthsElias Kirchgraber – BassMartin Maron – Drums \nTickets:\n							https://www.youtube.com/watch?v=IGGSRFeKXAM
URL:https://z87.de/event/260312/
CATEGORIES:Jazz
ATTACH;FMTTYPE=image/jpeg:https://z87.de/wp-content/uploads/2026/02/260312.jpg
ORGANIZER;CN="mainJAZZ":MAILTO:info@mainjazz.de
END:VEVENT
BEGIN:VEVENT
DTSTART;TZID=Europe/Berlin:20260315T190000
DTEND;TZID=Europe/Berlin:20260315T190000
DTSTAMP:20260419T163925
CREATED:20260108T035249Z
LAST-MODIFIED:20260315T041621Z
UID:5477-1773601200-1773601200@z87.de
SUMMARY:Finissage "Innere Landschaften" & Disco
DESCRIPTION:Finissage der Ausstellung von Teresa Schardt. Im Anschluss wird der Keller zur Tanzfläche – mit offenem Discobetrieb und Musik bis in den Abend. Alle sind herzlich eingeladen\, vorbeizukommen\, die Ausstellung ein letztes Mal zu erleben und gemeinsam einen stimmungsvollen Abend zu verbringen.
URL:https://z87.de/event/260315/
CATEGORIES:Blues
ATTACH;FMTTYPE=image/jpeg:https://z87.de/wp-content/uploads/2026/01/260315-2.jpg
END:VEVENT
BEGIN:VEVENT
DTSTART;TZID=Europe/Berlin:20260319T200000
DTEND;TZID=Europe/Berlin:20260319T200000
DTSTAMP:20260419T163925
CREATED:20260305T020518Z
LAST-MODIFIED:20260305T021155Z
UID:5751-1773950400-1773950400@z87.de
SUMMARY:Jessicats - Women in Jazz
DESCRIPTION:In Würzburg haben sich die Jessicats zusammengefunden – eine reine Frauenband zu gründen\, war jedoch keineswegs eine bewusste Entscheidung. Vielmehr ergab sich dieser Zustand ganz natürlich\, so\, wie das bei ihren männlichen Kollegen der Fall ist. Inspiriert von ihrem Publikum und ihrer einzigartigen Bandkonstellation haben sich die Jessicats für eine besondere Hommage entschieden. Das Trio spielt ein Repertoire\, das ausschließlich Werke von Komponistinnen enthält. Dazu gehören sowohl etablierte Jazzmusikerinnen wie Alice Coltrane\, Carla Cook und Emily Remler\, als auch die Interpretinnen selbst. Das Ensemble\, bestehend aus Carolin Heuser am Saxophon\, Victoria Pohl am Klavier und Sabrina Damiani am Bass\, überzeugt bei seinen Konzerten mit einem natürlichen und ausdrucksstarken Musikerlebnis\, sichtbarer Spielfreude sowie Mut zum Risiko und Spontanität. Aufgelockert wird der Abend durch die charmanten Moderationen der Musikerinnen. Erleben Sie die Jessicats live und lassen Sie sich von ihrer Leidenschaft für den Jazz mitreißen. \nVictoria Pohl  – PianoCarolin Heuser – SaxophonSabrina Damiani – Kontrabass \nTickets\nAbendkasse 20.- / 15.- ermäßigt
URL:https://z87.de/event/260319/
CATEGORIES:Jazz
ATTACH;FMTTYPE=image/jpeg:https://z87.de/wp-content/uploads/2026/03/260319.jpg
ORGANIZER;CN="mainJAZZ":MAILTO:info@mainjazz.de
END:VEVENT
BEGIN:VEVENT
DTSTART;TZID=Europe/Berlin:20260321T200000
DTEND;TZID=Europe/Berlin:20260321T200000
DTSTAMP:20260419T163925
CREATED:20250706T055409Z
LAST-MODIFIED:20260317T070203Z
UID:4608-1774123200-1774123200@z87.de
SUMMARY:Benefizkonzert für Humedica mit Iss Was Doc
DESCRIPTION:IssWasDoc ist eine Band aus dem Würzburger Raum\, die Bluesrock\, Jazziges\, Oldies und ähnliche Musik spielt\, also Clapton\, Cocker\, Dire Straits\, Deep Purple\, Hendrix u. v. m. Wir sind ein bunter Haufen\, teils älter\, teils jünger\, aber uns alle eint der Spaß und die Begeisterung an guter handgemachter Musik. Alle haben über die Jahre eine Menge Banderfahrung gesammelt. Freut euch auf einen schönen Abend mit guter\, tanzbarer Musik\, die in die Beine geht!\nSämtliche Einnahmen gehen (nach Abzug der Unkosten) direkt an Humedica. Zusätzliche Spenden durchaus erbeten. \nBesetzung:\nJulian Köhler – voc\, org\nRudi Rosenbauer – dr\nFlorian Homberg – git\nJürgen Kissling – git\, b\, voc\nSteffi Hofmann – voc\nMatthias Rosenbauer – kb\nHajo Grimminger – git\nThomas Uebele – b\, git \nAbendkasse 20.-
URL:https://z87.de/event/260321/
CATEGORIES:Rock / Pop
ATTACH;FMTTYPE=image/jpeg:https://z87.de/wp-content/uploads/2025/07/260321-1.jpg
END:VEVENT
BEGIN:VEVENT
DTSTART;TZID=Europe/Berlin:20260322T190000
DTEND;TZID=Europe/Berlin:20260322T190000
DTSTAMP:20260419T163925
CREATED:20251209T052826Z
LAST-MODIFIED:20260320T023548Z
UID:5339-1774206000-1774206000@z87.de
SUMMARY:Kratzen - Krautrock und New Wave
DESCRIPTION:Repetitiv\, motorisch\, stoisch\, reduziert – KRATZEN stehen für eine eigenständige\, kompromisslose Klangästhetik. Der Sound der Kölner Band entsteht aus bewusster Limitation: kein Schnickschnack\, keine Hierarchien\, keine Leadgitarren. Gespielt wird nur das Nötigste – und genau daraus entwickelt sich eine enorme Energie. \nMit ihrem aktuellen Album „III“\, erschienen im Januar 2025 als handgestempeltes\, limitiertes Vinyl\, führen KRATZEN ihren Weg konsequent weiter. Produziert wurde die Platte – wie schon der Vorgänger „zwei“ – von Olaf Opal (u. a. Notwist\, International Music). „III“ bewegt sich im vertrauten Koordinatensystem der Band\, öffnet dieses aber um neue Dimensionen: weiterhin Krautwave\, doch ohne sich in einer selbstgebauten Schublade festzusetzen. Die Musik entfaltet sich\, minimalistische Strukturen verschieben sich subtil\, kleine Veränderungen erzeugen große Wirkung. \nKRATZEN glauben an das Kollektiv\, an Spannung durch Reduktion und an die Kraft des Moments. Live wird daraus ein hypnotisches Erlebnis zwischen stoischem Puls und konzentrierter Intensität – eindringlich\, roh und maximal fokussiert. \nEin Konzert für alle\, die Musik jenseits klassischer Rock-Mechaniken schätzen. \nAbendkasse 20.-
URL:https://z87.de/event/260322/
CATEGORIES:Rock / Pop
ATTACH;FMTTYPE=image/jpeg:https://z87.de/wp-content/uploads/2025/12/260322.jpg
END:VEVENT
BEGIN:VEVENT
DTSTART;TZID=Europe/Berlin:20260328T200000
DTEND;TZID=Europe/Berlin:20260328T200000
DTSTAMP:20260419T163925
CREATED:20241004T064540Z
LAST-MODIFIED:20260325T130451Z
UID:2293-1774728000-1774728000@z87.de
SUMMARY:FALK - Unverschämt - Ausverkauft!
DESCRIPTION:„Unverschämt!“ kann als empörter Ausruf verstanden werden\, bei Menschen mit Sinn für Humor\, aber auch ein echtes Qualitätssiegel sein – wie bei einem Konzert von FALK. Der Liedermacher ist auch in seinem aktuellen Konzertprogramm „Unverschämt“ erfreulich grenzüberschreitend in alle Richtungen\, gepaart mit bissigem\, aber sympathischem Sarkasmus – ein liebevoller Pöbler eben. Zugleich ist er aber auch mehr als das. Der Liedermacher ist ein Geschichtenerzähler mit nachdenklicher Seite\, die berühren kann.Von einem Konzertbesuch bei FALK ist Menschen mit schwachen Nerven\, die zur Überempfindlichkeit neigen und allen allzu zart besaitete Gemüter vielleicht eher abzuraten. Wer sich aber gemeinsam über die Eigenarten und Absonderlichkeiten des Alltags lustig machen möchte und gleichzeitig die Fähigkeit besitzt\, auch über sich selbst lachen zu können\, wird einen Abend mit FALK am Ende nicht nur unverschämt\, sondern garantiert auch unverschämt gut finden. \nAUSVERKAUFT!
URL:https://z87.de/event/260328/
CATEGORIES:Kabarett
ATTACH;FMTTYPE=image/jpeg:https://z87.de/wp-content/uploads/2024/10/260328.jpg
END:VEVENT
END:VCALENDAR