BEGIN:VCALENDAR
VERSION:2.0
PRODID:-// - ECPv6.15.20//NONSGML v1.0//EN
CALSCALE:GREGORIAN
METHOD:PUBLISH
X-ORIGINAL-URL:https://z87.de
X-WR-CALDESC:Veranstaltungen für 
REFRESH-INTERVAL;VALUE=DURATION:PT1H
X-Robots-Tag:noindex
X-PUBLISHED-TTL:PT1H
BEGIN:VTIMEZONE
TZID:Europe/Berlin
BEGIN:DAYLIGHT
TZOFFSETFROM:+0100
TZOFFSETTO:+0200
TZNAME:CEST
DTSTART:20250330T010000
END:DAYLIGHT
BEGIN:STANDARD
TZOFFSETFROM:+0200
TZOFFSETTO:+0100
TZNAME:CET
DTSTART:20251026T010000
END:STANDARD
BEGIN:DAYLIGHT
TZOFFSETFROM:+0100
TZOFFSETTO:+0200
TZNAME:CEST
DTSTART:20260329T010000
END:DAYLIGHT
BEGIN:STANDARD
TZOFFSETFROM:+0200
TZOFFSETTO:+0100
TZNAME:CET
DTSTART:20261025T010000
END:STANDARD
BEGIN:DAYLIGHT
TZOFFSETFROM:+0100
TZOFFSETTO:+0200
TZNAME:CEST
DTSTART:20270328T010000
END:DAYLIGHT
BEGIN:STANDARD
TZOFFSETFROM:+0200
TZOFFSETTO:+0100
TZNAME:CET
DTSTART:20271031T010000
END:STANDARD
END:VTIMEZONE
BEGIN:VEVENT
DTSTART;VALUE=DATE:20260129
DTEND;VALUE=DATE:20260202
DTSTAMP:20260419T180306
CREATED:20260113T153421Z
LAST-MODIFIED:20260114T053704Z
UID:5507-1769644800-1769990399@z87.de
SUMMARY:52. Internationales Filmwochenende Würzburg
DESCRIPTION:Das Internationale Filmwochenende Würzburg findet im Jahr 2026 zum 52. Mal statt\, und zwar vom 29. Januar bis zum 1. Februar 2026. Das Programm besteht aus etwa 60 Spiel- und Dokumentarfilmen\, Kurzfilmen sowie einer Reihe von Sonderveranstaltungen. Von der französischen Großproduktion auf Hollywoodniveau bis zum südkoreanischen Horrorschocker\, über das deutsche No-Budget-Familiendrama und den amerikanischen Independent-Film bis hin zum Kurzfilm und der Stummfilm-Matinee haben alle Genres auf dem Filmwochenende ihren Platz. \nDas Programmheft kann ab jetzt Online auf er Webseite abgerufen werden. \nDie Printfassung wird in den nächsten Tagen dann auch an diversen Stellen in der Stadt ausliegen. \n  \nDonnerstag\nFreitag\nSamstag\nSonntag\n– \n– \n11:00 Cathedrals of Culture \n11:00 Gerry Adams: A Ballymurphy Man \n– \n– \n13:00 Girls Don’t Cry \n13:30 Die innere Sicherheit \n– \n15:15 Niñxs \n15:15 Soldaten des Lichts \n16:00 Mikuba \n17:00 Columbus \n17:00 Sechswochenamt \n17:45 Promis le ciel \n17:30 Hemme’nin Öldüğü Günlerden Biri \n19:30 Météors \n19:15 Soldaten des Lichts \n– \n19:30 Gespenster \n19:15 Runawaystars \n21:30 The Things You Kill \n22:00 Haunter from Beyond \n21:45 Hemme’nin Öldüğü Günlerden Biri \n– \n– \n– \n23:30 Mag Mag \n–
URL:https://z87.de/event/260129/
CATEGORIES:Film
ATTACH;FMTTYPE=image/jpeg:https://z87.de/wp-content/uploads/2026/01/260129.jpg
END:VEVENT
BEGIN:VEVENT
DTSTART;TZID=Europe/Berlin:20260202T200000
DTEND;TZID=Europe/Berlin:20260202T200000
DTSTAMP:20260419T180306
CREATED:20251209T073541Z
LAST-MODIFIED:20251210T021845Z
UID:5347-1770062400-1770062400@z87.de
SUMMARY:PUJO - Das Pfister / Uhlemann Jazz Orchestra
DESCRIPTION:Das Pfister/Uhlemann Jazz Orchestra (PUJO)\, geleitet von Kevin Pfister (Klavier) und Noel Uhlemann (Dirigat)\, ist eine neue Big Band mit Sitz in Amsterdam\, die einige der vielversprechendsten europäischen Musiker:innen vereint. Die Band besteht aus aktuellen und ehemaligen Mitgliedern renommierter Ensembles wie dem BuJazzO\, dem NJJO (Niederländisches Nationales Jugendjazzorchester) und dem Jong Metropole Orkest und Musiker:innen\, die bereits in Orchestern wie der WDR Big Band\, dem Jazz Orchestra of the Concertgebouw und dem Metropole Orkest gespielt haben. Viele von ihnen sind zudem Preisträger:innen renommierter Wettbewerbe wie des Steinway Förderpreises\, des Keep an Eye Outstanding Talent Award und des Prinses Christina Concours. \nPUJOs originäres Repertoire bietet eine frische Perspektive auf die Big Band-Tradition\, durch die Verschmelzung von lyrischen Melodien mit reichen zeitgenössischen Harmonien und neuen Formen. Inspiriert von modernen Big Band-Komponist:innen wie Maria Schneider\, Kenny Wheeler und Vince Mendoza\, verbinden ihre Stücke Raffinesse und treibende Energie in gleichem Maße. \nIm November 2025 erschien im Rahmen eines Releasekonzertes ihre Debut-EP Introducing PUJO\, aufgenommen im März des gleichen Jahres. Das Konzert im Z87 erfolgt im Rahmen ihrer ersten internationalen Tournee durch Deutschland. \nDie Band  \nNoel Uhlemann – Dirigent\, Komponist\, Bandleader \nDiana Dzhabbar – Altsaxophon (lead) \nLeonardo Boccardo – Altsaxophon  \nJoep Grotendorst – Tenorsaxophon  \nEgor Tokarev – Tenorsaxophon  \nFabian van der Knaap – Baritonsaxophon  \nPilvi Kokkonen – Trompete (lead)  \nJelle Janswaard – Trompete (lead)  \nFabian Schneider – Trompete  \nErnesto Montenegro – Trompete  \nCharlie Philips – Trompete  \nMichel Tuinman – Posaune (lead)  \nJoan Codina – Posaune \nOdysseas Dellis – Posaune \nValters Ņevzorovs – Bassposaune \nKevin Pfister – Klavier\, Komponist\, Bandleader \nAdolfo Marineto – Gitarre \nSamuel Kiel – Bass \nJonatan Kuhlmann – Schlagzeug \nAbendkasse 25.-
URL:https://z87.de/event/260202/
CATEGORIES:Jazz
ATTACH;FMTTYPE=image/jpeg:https://z87.de/wp-content/uploads/2025/12/260202.jpg
ORGANIZER;CN="mainJAZZ":MAILTO:info@mainjazz.de
END:VEVENT
BEGIN:VEVENT
DTSTART;TZID=Europe/Berlin:20260205T200000
DTEND;TZID=Europe/Berlin:20260205T200000
DTSTAMP:20260419T180306
CREATED:20250304T075401Z
LAST-MODIFIED:20260107T034156Z
UID:4089-1770321600-1770321600@z87.de
SUMMARY:The Almost Three - Voodoo-Blues-Funk-Rock’n’Roll
DESCRIPTION:THE ALMOST THREE  ist Voodoo-Blues-Funk-Rock’n’Roll\,\nwie eine Mischung aus Neil Young  Jimi Hendrix und George Clinton. \nTHE ALMOST THREE….. direkt\, lebendig\, waghalsig\, voller Improvisation und schwer in eine musikalische Schublade zu stecken. Das Live-Programm besteht zu 89\,7 % aus Eigenkompositionen.  Auch ist es interessant zu hören\, was passiert\, wenn dieses Blues-Rock Trio doch z.B Klassiker wie „I’m not in Love“ von 10 CC  oder  „Let’s Dance“ von David.Bowie  „durch den Wolf drehen“. \nTHE ALMOST THREE haben die Musik zwar damit nicht neu erfunden\, blicken aber gekonnt über den Tellerrand des Blues-Rock Genres hinaus\, und spinnen den Crossover – Gedanken  auch in Zukunft professionell weiter. \nMartin „Ludi“ Ettrich – Guitar\, Lead Vocals (seit 2009 Gitarrist bei der deutschen Rocklegende BIRTH CONTROL) \nCyborg Haines – Bass\, Vocals (Seit 1998 Bassist bei der deutschen Rocklegende BIRTH CONTROL\, Spielte u.a. mit Lee Scratch Perry\, Marla Glen\, Xaver Fischer Trio\, Sooncome) \nMickey Neher – Drums\, Vocals (Spielte u.a. mit Chris Farlow\, Henrik Freischlader\, Paul Kuhn\, Angela Brown) \nAbendkasse 25.-
URL:https://z87.de/event/260205/
CATEGORIES:Rock / Pop
ATTACH;FMTTYPE=image/jpeg:https://z87.de/wp-content/uploads/2025/03/260205-1.jpg
END:VEVENT
BEGIN:VEVENT
DTSTART;TZID=Europe/Berlin:20260207T170000
DTEND;TZID=Europe/Berlin:20260207T170000
DTSTAMP:20260419T180306
CREATED:20260119T031653Z
LAST-MODIFIED:20260119T032142Z
UID:5590-1770483600-1770483600@z87.de
SUMMARY:"Innere Landschaften" - Vernissage mit der Künstlerin Teresa Schardt
DESCRIPTION:In ihrer neuen Serie „Innere Landschaften“ verwandelt Teresa Schardt das klassische Frauenportrait in eine topografische Erkundung des Inneren. \nViele neue Arbeiten erzählen von der Vielschichtigkeit weiblicher Erfahrung – von Ruhe und Widerstand\, Erinnerung\, Fürsorge und Selbstbehauptung. \nJedes Portrait gleicht einer Landschaft: eine Küste\, ein Moor\, eine Stadt\, ein Garten… Die Gesichter werden zu Terrains aus Farbe\, Struktur und Licht – Karten von Emotion und Identität. Zwischen Schichtungen\, verschiedenen Farben\, Kratzspuren\, Spachteltechniken und Glanzmomenten entsteht eine neue Form der Innerlichkeit: verletzlich\, stark und von leiser Würde getragen. \nTeresa Schardt arbeitet seit Jahren fast ausschließlich im Genre Frauenportraits. Ihre Malerei verbindet Intimität mit Symbolik\, Nähe mit Distanz. In „innere Landschaften“ entfaltet sich diese Sprache in atmosphärischen Bildern\, die das Unsichtbare sichtbar machen – Erinnerungen\, Empfindungen\, das Schweigen zwischen zwei Atemzügen. \nDie Ausstellung lädt dazu ein\, nicht nur Gesichter zu betrachten\, sondern Räume zu betreten – jene inneren Landschaften\, die wir alle in uns tragen.
URL:https://z87.de/event/260207-1/
CATEGORIES:Ausstellung
ATTACH;FMTTYPE=image/jpeg:https://z87.de/wp-content/uploads/2024/12/260207-1.jpg
END:VEVENT
BEGIN:VEVENT
DTSTART;TZID=Europe/Berlin:20260207T210000
DTEND;TZID=Europe/Berlin:20260207T210000
DTSTAMP:20260419T180306
CREATED:20260119T032446Z
LAST-MODIFIED:20260119T032446Z
UID:5599-1770498000-1770498000@z87.de
SUMMARY:Aftershowparty mit DJ Funkmaster
DESCRIPTION:Am 7. Februar 2026 geht es ab 21:00 Uhr richtig los – bei der Aftershowparty im Keller Z87! \nDJ-funkmaster.de sorgt für den perfekten Soundtrack der Nacht:\nFreut euch auf beste Dance Music von den 70ern über die 80er & 90er bis hin zu den aktuellen Charts. Klassiker\, Kult-Hits und moderne Beats – alles\, was die Tanzfläche füllt und die Nacht unvergesslich macht. \nTanzen\, feiern\, genießen – und dabei Gutes tun:\nDer Eintritt ist eine kleine Spende zugunsten der Wärmestube des Christophorus Werks.\nGemeinsam feiern und gleichzeitig Menschen unterstützen\, die Hilfe brauchen. \nKommt vorbei\, bringt gute Laune mit und lasst uns die Nacht gemeinsam zum Beben bringen!
URL:https://z87.de/event/260207-2/
ATTACH;FMTTYPE=image/jpeg:https://z87.de/wp-content/uploads/2024/12/260207-2.jpg
END:VEVENT
BEGIN:VEVENT
DTSTART;TZID=Europe/Berlin:20260208T190000
DTEND;TZID=Europe/Berlin:20260208T190000
DTSTAMP:20260419T180306
CREATED:20251118T042630Z
LAST-MODIFIED:20251118T042630Z
UID:5259-1770577200-1770577200@z87.de
SUMMARY:64. Gypsy Jazz Jam Session mit Elias Prinz & Inswingtief
DESCRIPTION:Am Sonntag\, den 8. Februar 2026\, steht die Bühne im Keller Z87 wieder ganz im Zeichen des heißen Saitenspiels – doch diesmal mit einem besonderen Highlight: Zur 64. Ausgabe der Gypsy Jazz Jam Session hat man den Gypsy-Gitarristen Elias Prinz eingeladen! \nElias Prinz ist ein deutscher Jazzgitarrist und Komponist\, bekannt für seinen modernen Zugang zum Gypsy-Swing mit eigenen stilprägenden Kompositionen. \nLeben und WerdegangPrinz begann mit fünf Jahren Gitarre zu spielen und entdeckte früh Jazz und Improvisation. Nach ersten eigenen Projekten – darunter ein Trio mit seinem Vater – absolvierte er eine Ausbildung an der Neuen Jazzschool München und studierte anschließend Jazzgitarre an der Hochschule für Musik und Theater München\, wo er 2025 seinen Master abschloss. \nEr gründete mehrere Formationen wie das Swingtette de Bavière\, den Münchner Hot Club de M Belleville sowie verschiedene Gypsy-Jazz-Trios und -Duos. Konzertreisen führten ihn u. a. mit dem London Django Collective durch Großbritannien. Er trat bei Festivals wie Bingen swingt\, dem Tollwood\, dem Schleswig-Holstein Musikfestival und in Samois-sur-Seine auf. \nAuszeichnungenPrinz erhielt u. a. den Jugendmusik Förderpreis Allgäu Schwaben (2016)\, den Kurt Maas Jazz Award (2023) und den BMW Young Artist Jazz Award (2025). \nBegleitet von Inswingtief \nFür das Würzburger Publikum wird Joscho Stephan an diesem Abend von Inswingtief begleitet – dem Ensemble um Geiger Thomas Buffy\, das als Herzstück der hiesigen Gypsy-Szene gilt. Mit Stefan Degner (Gitarre) und Sabrina Damiani (Kontrabass) liefert das Trio ein kraftvolles rhythmisches Fundament\, das dem Stargast den perfekten Spielraum für seine klangvollen Höhenflüge bietet. \nJam Session im Anschluss \nNach dem Konzertteil ist – wie gewohnt – die Bühne offen für Musiker:innen\, die sich mit eigenen Instrumenten und Stimmen dem kollektiven Improvisationsgeist anschließen möchten. Die Jam Sessions im Keller Z87 sind längst Kult in der Region – ein Ort für Begegnung\, Inspiration und spontane musikalische Magie.
URL:https://z87.de/event/260208/
CATEGORIES:Jazz
ATTACH;FMTTYPE=image/jpeg:https://z87.de/wp-content/uploads/2025/11/260208.jpg
ORGANIZER;CN="mainJAZZ":MAILTO:info@mainjazz.de
END:VEVENT
BEGIN:VEVENT
DTSTART;TZID=Europe/Berlin:20260210T200000
DTEND;TZID=Europe/Berlin:20260210T200000
DTSTAMP:20260419T180306
CREATED:20251218T050124Z
LAST-MODIFIED:20251218T050218Z
UID:5392-1770753600-1770753600@z87.de
SUMMARY:Black Music Tuesday
DESCRIPTION:Wir machen den Keller zur Disco! \nDJ Oscar legt schwarzes Gold auf- mit einer tanzbaren Mischung aus Funk\, R&B und Soul\, bei der keiner lange stillsitzen kann.  \nWer die Musik von James Brown\, Wilson Picket\, Ray Charles oder Prince mag\, wird unseren Z87 – Black Musik Thursday zu schätzen wissen. \nBeginn: 20 Uhr – Eintritt frei
URL:https://z87.de/event/260210/
CATEGORIES:Disco
ATTACH;FMTTYPE=image/jpeg:https://z87.de/wp-content/uploads/2025/12/260210.jpg
END:VEVENT
BEGIN:VEVENT
DTSTART;TZID=Europe/Berlin:20260212T180000
DTEND;TZID=Europe/Berlin:20260212T180000
DTSTAMP:20260419T180306
CREATED:20251210T022829Z
LAST-MODIFIED:20251210T022829Z
UID:5357-1770919200-1770919200@z87.de
SUMMARY:Smells Like Team Spirit - Pop\, Rock & Jazz Konzert mit Bands\, Solisten und der BigBand des Matthias-Grünewald-Gymnasiums
DESCRIPTION:Am Donnerstag\, den 12.02.2026 laden die verschiedenen Rockbands\, die BigBand und Soloacts des Matthias-Grünewald-Gymnasiums ab 18:00 Uhr in den Kulturkeller Z87 im ehemaligen Bürgerbräugelände ein. Nach dem durchschlagenden Erfolg der letzten drei Jahre findet diese Veranstaltung heuer bereits zum vierten Mal statt! \nBei freiem Eintritt präsentieren über 50 jugendliche Musizierende im Alter von 12-18 Jahren ein buntes\, gut zweistündiges Programm aus aktuellen Pophits\, eigenen Songs\, groovenden Rocknummern und Hits im BigBand Sound.
URL:https://z87.de/event/260212/
CATEGORIES:Blues-Rock,Jazz,Rock / Pop
ATTACH;FMTTYPE=image/jpeg:https://z87.de/wp-content/uploads/2025/12/260212.jpg
END:VEVENT
BEGIN:VEVENT
DTSTART;TZID=Europe/Berlin:20260213T200000
DTEND;TZID=Europe/Berlin:20260213T200000
DTSTAMP:20260419T180306
CREATED:20250225T032551Z
LAST-MODIFIED:20260119T014008Z
UID:3978-1771012800-1771012800@z87.de
SUMMARY:Die Zauberwürfel - Neue Deutsche Welle
DESCRIPTION:„Die Zauberwürfel“ zollen mit viel Spaß an der Sache einem spannenden Kapitel der Popmusik Tribut. Wer auf Ideal\, Extrabreit\, Spliff\, Ukw\, Fräulein Menke und deren Zeitgenossen steht ist hier an der richtigen Adresse\, denn das Programm besteht ausschließlich aus „Neue-Deutsche-Welle“ Songs der 80er-Jahre. \n„Die Zauberwürfel“ sind aber beileibe keine reine Spaßkapelle\, die nur die Ballermann-kompatiblen Hits abliefert. Die sehr diverse Musik dieser Zeit nachzuspielen ist ihnen ein echtes Anliegen\, auch und gerade weil diese Band überwiegend aus Berufsmusikern besteht\, die sonst in diversen Gruppen von Reggae bis Metal sowie als Instrumentallehrer und Producer ihre Brötchen verdienen. \nTrotzdem nehmen sie ihre Rolle mit einer gehörigen Portion Humor wenn sie das Publikum zur gemeinsamen Zeitreise einladen. Vorbeikommen und mitfeiern! \nDa brennt nicht nur die Schule und steigen die 99 Luftballons\, da entstehen Deja Vu`s und Dreiklangs-Dimensionen. Anna wird von ihrem goldenen Reiter in den Sternenhimmel entführt und Major Tom flüchtet nach einem Banküberfall über hohe Berge zum Märchenprinzen\, der den König von Deutschland mit ´Hallo Klaus´ begrüßt… Irgendwie\, irgendwo\, irgendwann wird dann der Eisbär von seiner Monotonie auf dem Leuchtturm erlöst und zu einem Rendezvous mit Katharine und einer Pizza Carbonara eingeladen. Zum Glück hat Fred vom Jupiter nur geträumt\, dass er im Tretboot in Seenot gerät… das Ganze geht dann bis die Polizisten kommen oder nur noch die kleine Taschenlampe brennt! \nDie Zauberwürfel im Netz: Facebook
URL:https://z87.de/event/260213/
CATEGORIES:Neue Deutsche Welle
ATTACH;FMTTYPE=image/jpeg:https://z87.de/wp-content/uploads/2025/02/260213-1.jpg
END:VEVENT
BEGIN:VEVENT
DTSTART;TZID=Europe/Berlin:20260215T190000
DTEND;TZID=Europe/Berlin:20260215T190000
DTSTAMP:20260419T180306
CREATED:20260107T031459Z
LAST-MODIFIED:20260107T031554Z
UID:5457-1771182000-1771182000@z87.de
SUMMARY:Rock-Fasching mit Four Wheel Drive & Rockchain
DESCRIPTION:Seit über 30 Jahren ein Garant hochwertiger\, brillanter Rockmusik mit professionellem Sound und cooler Stimmung. Ob bei Stadtfesten\, Open-Air-Veranstaltungen\, im Festzelt oder auf Motorradtreffen in ganz Süddeutschland\, Four Wheel Drive liefern genialen\, 100% Life-Rock-Sound. \nDas vielseitige Repertoire reicht von kraftvollem Hardrock von DEEP PURPLE und WHITESNAKE\, sowie Rockklassikern von KANSAS\, SUPERTRAMP\, JETHRO TULL\, MANFRED MANN\, THIN LIZZY\, PINK FLOYD und TOTO über extravaganten Funk- und Softrock von Climax Blues Band und SUPERTRAMP bis zu legendärem Classic-Rock von AEROSMITH\, Grand Funk Railroad\, JOE COCKER\, DOOBIE BROTHERS\, DIRE STRAITS und ZZ TOP.Bei den schweißtreibenden Bühnenshows der fünf erfahrenen Vollblut-Musiker  bleibt kein „Jung- oder Altrocker“ still stehen. \nLine-up:Jürgen Greschner – Vocals\, GitarreAli Patzak – Gitarre\, VocalsHerbert Göbel – Keyboards\, Harp\, VocalsRoger Eckel – Bass\, VocalsJohnny Mitnacht – Schlagzeug\, Vocals \n\nRockchainROCKCHAIN verbindet Rockklassiker von Cream\, Led Zeppelin und Rory Gallagher mit modernen Sounds von The Black Keys und Larkin Poe. Die Band aus Heilbronn setzt mit ihrer Songauswahl ein klares Statement: Rockmusik bleibt lebendig. Hier trifft ehrliche Energie auf musikalisches Handwerk. \nLine-up:Jasmin Hübner – VocalsRené Kurmann – LeadgitarreMicha Seitz – RhythmusgitarreChristian Vogt – BluesharpJulian Heider – BassTilo Stutz – Schlagzeug \nAbendkasse 20.-
URL:https://z87.de/event/260215/
CATEGORIES:Classic-Rock
ATTACH;FMTTYPE=image/jpeg:https://z87.de/wp-content/uploads/2026/01/260215.jpg
END:VEVENT
BEGIN:VEVENT
DTSTART;TZID=Europe/Berlin:20260217T200000
DTEND;TZID=Europe/Berlin:20260217T200000
DTSTAMP:20260419T180306
CREATED:20250308T043407Z
LAST-MODIFIED:20260211T045941Z
UID:4102-1771358400-1771358400@z87.de
SUMMARY:Die Steine - Rolling Stones Tribute
DESCRIPTION:Steinzeit im Keller Z87 \nDie Rolling Stones sind Weltkulturerbe\, die steinalte Konstante und einzigen aktiven Vertreter populärer Musik\, die unverändert – und das seit sage und schreibe 62 Jahren nach der Gründung – die Geschichte des Rock ’n‘ Roll verkörpern. „Die Steine“ sind Würzburgs einzige Rockband mit einem abendfüllenden Programm\, das ausschließlich Songs der Stones bietet. Seit der Premiere 2010 steht die Band für energiegeladene und begeisternde Live-Auftritte. „Die Steine“ orientieren sich an den großen Originalen\, ohne dabei jedoch den strengen Anspruch werksgetreuer Kopien zu verfolgen oder den Raum für Improvisationen zu vernachlässigen. \nRüz Löser (Schlagzeug)\, Stefan Hußl (Gitarre\, Gesang)\, Matthias Gerhard (Bass\, Gesang) und Manfred Gawlas (Gitarre) konzentrieren sich vor allem auf die Songs der bei Stones-Fans besonders geschätzten „goldenen“ Jahre. Insbesondere zwischen 1965 und 1973 galt jede einzelne Stones-Single und LP als ein bedeutendes Ereignis und übte weitreichenden Einfluss auf die gesamte Musik-Szene aus. Auf dem Programm stehen Stones-Klassiker wie „Jumpin‘ Jack Flash“ oder „Brown Sugar“\, aber auch weniger bekannte Songs der „Greatest Rock ’n‘ Roll Band in the World“. \nAbendkasse 20.-
URL:https://z87.de/event/260217/
CATEGORIES:Rock / Pop
ATTACH;FMTTYPE=image/jpeg:https://z87.de/wp-content/uploads/2025/03/260217-1.jpg
END:VEVENT
BEGIN:VEVENT
DTSTART;TZID=Europe/Berlin:20260219T200000
DTEND;TZID=Europe/Berlin:20260219T200000
DTSTAMP:20260419T180306
CREATED:20251006T231451Z
LAST-MODIFIED:20260122T054703Z
UID:4989-1771531200-1771531200@z87.de
SUMMARY:Sylvia Baumann & Band: Keller & Kirchen 2026
DESCRIPTION:Keller & Kirchen 2026. Sylvia Baumann & Band – Live im Z87 WürzburgEin Abend zwischen Klang\, Tiefe und echter Begegnung:Sylvia Baumann singt eigene deutsche Songs über Lebensübergänge\, Sinnsuche\, Neuanfang und Mut – ergänzt durch berührende Gospels und Spirituals.Ihre Lieder sind geprägt von Soul\, Chanson und ihrer unverkennbaren Stimme\, die mit ihrer Tiefe und Wärme das Publikum unmittelbar erreicht.Begleitet wird sie von ihrer hochkarätig besetzten Band:Zsolt Hosszu (Piano)\, Johannes Böhm (Bass) und Frank Moll (Percussion).Gemeinsam schaffen sie einen musikalischen Raum\, der mal ganz reduziert\, mal groovend\, aber immer voller Präsenz ist. \nEin Konzert\, das nicht laut sein muss\, um nachzuwirken.Mitten im urbanen Kellerambiente des Z87 entfaltet sich ein Abend\, der Stille hörbar macht – und das Leben feiert. \n„Lieder\, die das Herz berühren. Worte\, die tragen. Musik\, die bleibt.“– Sylvia Baumann \nAbendkasse 20.-
URL:https://z87.de/event/260219/
CATEGORIES:Rock / Pop
ATTACH;FMTTYPE=image/jpeg:https://z87.de/wp-content/uploads/2025/10/260219-1.jpg
END:VEVENT
BEGIN:VEVENT
DTSTART;TZID=Europe/Berlin:20260222T190000
DTEND;TZID=Europe/Berlin:20260222T190000
DTSTAMP:20260419T180306
CREATED:20260116T084708Z
LAST-MODIFIED:20260121T135930Z
UID:5560-1771786800-1771786800@z87.de
SUMMARY:Clyde’s Delight – Straight Ahead Jazz
DESCRIPTION:Mit „Clyde’s Delight“ erwartet das Publikum ein kraftvolles Trio\, das tief in der Tradition des modernen Jazz verwurzelt ist – und diese mit Spielfreude\, Raffinesse und eigener Handschrift weiterführt. Die drei Würzburger Jazz-Profis Anton Mangold (Altsaxophon & Piano)\, Rudi Engel (Kontrabass) und Uli Kleideiter (Schlagzeug) präsentieren ein energiegeladenes Programm\, das sowohl Eigenkompositionen im Straight Ahead Style als auch ausgewählte Jazz-Standards umfasst. \nAnton Mangold\, mehrfach ausgezeichneter Multiinstrumentalist\, bringt nicht nur virtuoses Saxophonspiel\, sondern auch klangvolle Pianoparts ein. Rudi Engel zählt zu den profiliertesten deutschen Kontrabassisten und ist eine feste Größe in der deutschen Jazzszene. Uli Kleideiter sorgt mit seiner dynamischen und feinfühligen Schlagzeugarbeit für das rhythmische Fundament – stets präzise\, immer mit Drive. \nGemeinsam schaffen die drei Musiker intensive musikalische Dialoge\, improvisatorische Höhenflüge und dichte Klangräume – mal rau und swingend\, mal lyrisch und zurückgenommen\, aber stets mit einem klaren Bezug zur Tradition des Jazz. Wer Jazz liebt\, wie er klingen soll – echt\, lebendig\, handgemacht – sollte sich diesen Abend nicht entgehen lassen. \nAbendkasse 20.-
URL:https://z87.de/event/260222/
CATEGORIES:Jazz
ATTACH;FMTTYPE=image/jpeg:https://z87.de/wp-content/uploads/2026/01/260222-2.jpg
ORGANIZER;CN="mainJAZZ":MAILTO:info@mainjazz.de
END:VEVENT
BEGIN:VEVENT
DTSTART;TZID=Europe/Berlin:20260226T200000
DTEND;TZID=Europe/Berlin:20260226T200000
DTSTAMP:20260419T180306
CREATED:20251221T130125Z
LAST-MODIFIED:20251221T131245Z
UID:5428-1772136000-1772136000@z87.de
SUMMARY:Lobbyismus versus Korruption - konzertante Lesung von und mit Uwe Dolata
DESCRIPTION:Warum sich der Kampf gegen Wirtschaftskriminalität lohnt \nLobbyismus versus Korruption – Kultureller Seismograf einer Gesellschaft \nWo endet legitime Interessenvertretung – und wo beginnt Korruption?Diese Frage steht im Zentrum der konzertanten Lesung mit dem Wirtschaftskriminologen Dr. Uwe Dolata\, der zu den profilierten Stimmen im Bereich Compliance\, Korruptionsprävention und Wirtschaftsethik zählt. \nAnhand prägnanter Beispiele aus Wirtschaft\, Politik und Verwaltung zeigt Dr. Dolata\, wie Lobbyismus als notwendiger Bestandteil demokratischer Entscheidungsprozesse fungieren kann – und wann er zur Gefahr für Transparenz\, Fairness und gesellschaftliches Vertrauen wird. Korruption erscheint dabei nicht als Randphänomen\, sondern als kultureller Seismograf\, der Fehlentwicklungen\, Machtverschiebungen und moralische Bruchlinien einer Gesellschaft sichtbar macht. \nDie Lesung verbindet wissenschaftliche Analyse mit verständlicher Sprache\, pointierten Fallbeispielen und überraschenden Perspektiven. Musikalische Elemente verleihen dem Abend zusätzliche Tiefe und schaffen Raum für Reflexion – zwischen Erkenntnis\, Irritation und Hoffnung. \nEin ebenso informativer wie eindringlicher Abend\, der deutlich macht\, warum sich der Kampf gegen Wirtschaftskriminalität lohnt: für Rechtsstaatlichkeit\, für Chancengleichheit und für das Vertrauen in unsere gesellschaftlichen Institutionen. \nIm Eintritt ist ein Glas sekt oder Selters enthalten. Tipp: „In dubio pro secco“
URL:https://z87.de/event/260226/
CATEGORIES:Lesung
ATTACH;FMTTYPE=image/jpeg:https://z87.de/wp-content/uploads/2025/12/260226.jpg
END:VEVENT
END:VCALENDAR