BEGIN:VCALENDAR
VERSION:2.0
PRODID:-// - ECPv6.15.20//NONSGML v1.0//EN
CALSCALE:GREGORIAN
METHOD:PUBLISH
X-ORIGINAL-URL:https://z87.de
X-WR-CALDESC:Veranstaltungen für 
REFRESH-INTERVAL;VALUE=DURATION:PT1H
X-Robots-Tag:noindex
X-PUBLISHED-TTL:PT1H
BEGIN:VTIMEZONE
TZID:Europe/Berlin
BEGIN:DAYLIGHT
TZOFFSETFROM:+0100
TZOFFSETTO:+0200
TZNAME:CEST
DTSTART:20250330T010000
END:DAYLIGHT
BEGIN:STANDARD
TZOFFSETFROM:+0200
TZOFFSETTO:+0100
TZNAME:CET
DTSTART:20251026T010000
END:STANDARD
BEGIN:DAYLIGHT
TZOFFSETFROM:+0100
TZOFFSETTO:+0200
TZNAME:CEST
DTSTART:20260329T010000
END:DAYLIGHT
BEGIN:STANDARD
TZOFFSETFROM:+0200
TZOFFSETTO:+0100
TZNAME:CET
DTSTART:20261025T010000
END:STANDARD
BEGIN:DAYLIGHT
TZOFFSETFROM:+0100
TZOFFSETTO:+0200
TZNAME:CEST
DTSTART:20270328T010000
END:DAYLIGHT
BEGIN:STANDARD
TZOFFSETFROM:+0200
TZOFFSETTO:+0100
TZNAME:CET
DTSTART:20271031T010000
END:STANDARD
END:VTIMEZONE
BEGIN:VEVENT
DTSTART;TZID=Europe/Berlin:20260104T190000
DTEND;TZID=Europe/Berlin:20260104T190000
DTSTAMP:20260419T191840
CREATED:20250130T030827Z
LAST-MODIFIED:20260102T070136Z
UID:3411-1767553200-1767553200@z87.de
SUMMARY:Clapton Experience - A Tribute To Eric Clapton
DESCRIPTION:Fünf Jahrzehnte Bluesrock der Extraklasse – Eric Clapton hat in seiner Karriere viele Maßstäbe gesetzt und gehört mit mehr als 280 Millionen verkauften Platten zu den erfolgreichsten Künstlern aller Zeiten. Mit Welthits wie Layla\, Cocaine\, Tears in Heaven\, Lay down Sally oder Wonderful Tonight hat er Musikgeschichte geschrieben. \nDie Band Clapton Experience präsentiert die legendären Werke in einem knapp dreistündigen Livekonzert. Von den Anfängen mit Cream und Derek and the Dominos bis hin zum Durchbruch als Solo-Künstler berücksichtigt die Band in ihrem Programm alle Schaffensphasen des britischen Ausnahmegitarristen und Sängers. \nEcho-Online schreibt: „(…) Sebastian Strodtbeck und Band brillieren mit ihrer Eric Clapton Hommage – Die Tribute-Show der Band aus dem Rhein-Neckar-Raum gehört derzeit zum Besten\, was die Szene zu bieten hat.“ \nDer charismatische Frontmann stand bereits mit Weltstars wie Pete York und Miller Anderson gemeinsam auf der Bühne und hat mit seinem Solo-Projekt „Strodtbeck“ im Vorprogramm von Brian Auger gespielt. \nClapton Experience war in 2019\, nur vier Jahre nach Gründung\, die gefragteste Eric Clapton Tribute Band Deutschlands. \nFans von Eric Clapton sowie alle Blues- und Bluesrock Fans sollten sich ein Live-Konzert dieser Band nicht entgehen lassen! \nWeitere Infos und aktuelle Termine unter: clapton-experience.de \n\nAbendkasse 25.-
URL:https://z87.de/event/260104/
CATEGORIES:Classic-Rock
ATTACH;FMTTYPE=image/jpeg:https://z87.de/wp-content/uploads/2025/01/260104-1.jpg
END:VEVENT
BEGIN:VEVENT
DTSTART;TZID=Europe/Berlin:20260109T200000
DTEND;TZID=Europe/Berlin:20260109T200000
DTSTAMP:20260419T191840
CREATED:20250217T072324Z
LAST-MODIFIED:20260102T070306Z
UID:3946-1767988800-1767988800@z87.de
SUMMARY:Bernd Zehnter - Zauberkunst Pur
DESCRIPTION:Bernd Zehnter wurde unter anderem durch die Würzburger und Konstanzer Zaubertagen – bundesweit  bekannt. Darüber hinaus bekommt er als Moderator seines TV-Formats „Hinter den Kulissen“ nicht nur von seinen prominenten Gästen äußerst positive Rückmeldungen. \nNach einer magischen Begegnung hat sich eine zauberhafte Erfolgsgeschichte entwickelt. Unter den seitdem vielen tausenden begeisterten Zuschauern waren u.a. auch Reiner Calmund\, Dirk Nowitzki und viele mehr … \nDer Zauberkünstler zeigt Ihnen das BESTE aus seinen Bühnenprogrammen – Zauberkunst PUR. Sie erleben Zauberkunst mit Alltagsgegenständen in größtmöglicher Nähe. Dadurch wird die Magie einerseits so greifbar\, andererseits aber so unbegreifbar. \nMehr Infos unter: www.10ter.com \nAbendkasse 20.-
URL:https://z87.de/event/260109/
LOCATION:Keller Z87\, Frankfurter Straße 87\, Würzburg\, Bayern\, 97082\, Germany
CATEGORIES:Zauberkunst
ATTACH;FMTTYPE=image/jpeg:https://z87.de/wp-content/uploads/2024/12/260109.jpg
END:VEVENT
BEGIN:VEVENT
DTSTART;TZID=Europe/Berlin:20260111T190000
DTEND;TZID=Europe/Berlin:20260111T190000
DTSTAMP:20260419T191840
CREATED:20251007T014236Z
LAST-MODIFIED:20251007T014423Z
UID:5007-1768158000-1768158000@z87.de
SUMMARY:Origina1Nerd - originelle Musik in einem „nerdigen“ Jazz Format
DESCRIPTION:Origina1Nerd – ein Bandname der einen anfangs stutzig macht – warum die „1“ im Namen? Der Ursprung kommt von den stilistischen Mitteln\, die oft in Computerforen für die Namensgebung eines Accounts verwendet wurden. Genau dort lassen sich auch die originalen Nerds finden. Im Forum von Origina1Nerd haben sich fünf junge Musiker zusammengefunden\, um sowohl originelle Musik in einem „nerdigen“ Jazz Format zu komponieren als auch zu präsentieren. \nDas Ergebnis dieses Prozesses lässt sich auf dem zweiten Album der Band „System Overload“ finden – eine Mischung aus harmonischen Konzepten und Improvisation des Jazz\, kompositorischen sowie rhythmischen Elementen des Progressive Rock\, emulgiert mit Hilfe einer breiten Palette von Klängen elektronischer Musik. Um diesen Genre-Mix zu einem funktionierenden und ausgefeilten Klangkonzept zu entwickeln\, in welchem Elemente wie Odd Meter\, Sequenzierung\, Metric Modulation etc. Grundbausteine der Kompositionen darstellen\, musste die Band an der filigranen Balance zwischen komplexer Rhythmik und Harmonik tüfteln – mit Erfolg. Obwohl die Notation vieler Stücke mathematischen Gleichungen ähneln\, gelingt es Origina1Nerd\, für jede Komposition eine höchst musikalische Lösung zu finden. Dies wurde auch von der Jury von Ton Art Tirol gewürdigt\, die die Band und ihren musikalischen Leiter Max Glanz den Tiroler Jugendjazzpreis 2022 verliehen. \nNach Origina1Nerds Debütalbum „Unknown Error“ aus dem Jahr 2022 wird im November 2024 das Folgealbum „System Overload“ erscheinen\, in welchem das bestehende kompositorische Konzept verfeinert und neben den gewohnten akustischen Elementen auch vermehrt elektrischen Effekten Platz gegeben wurde. \n2026 wird das dritte Studioalbum folgen. \nBesetzung:Maximilian Glanz – SaxophonAndreas Erd – E-GitarreThomas Quendler – KeysJakob Gönitzer – E-BassJonas Kočnik – Schlagzeug \nAbendkasse 20.-
URL:https://z87.de/event/260111/
CATEGORIES:Jazz
ATTACH;FMTTYPE=image/jpeg:https://z87.de/wp-content/uploads/2025/10/260111.jpg
ORGANIZER;CN="mainJAZZ":MAILTO:info@mainjazz.de
END:VEVENT
BEGIN:VEVENT
DTSTART;TZID=Europe/Berlin:20260113T200000
DTEND;TZID=Europe/Berlin:20260113T200000
DTSTAMP:20260419T191840
CREATED:20251218T045859Z
LAST-MODIFIED:20251218T045859Z
UID:5389-1768334400-1768334400@z87.de
SUMMARY:Black Music Tuesday
DESCRIPTION:Wir machen den Keller zur Disco! \nDJ Oscar legt schwarzes Gold auf- mit einer tanzbaren Mischung aus Funk\, R&B und Soul\, bei der keiner lange stillsitzen kann.  \nWer die Musik von James Brown\, Wilson Picket\, Ray Charles oder Prince mag\, wird unseren Z87 – Black Musik Thursday zu schätzen wissen. \nBeginn: 20 Uhr – Eintritt frei
URL:https://z87.de/event/260113/
CATEGORIES:Disco
ATTACH;FMTTYPE=image/jpeg:https://z87.de/wp-content/uploads/2025/12/260113.jpg
END:VEVENT
BEGIN:VEVENT
DTSTART;TZID=Europe/Berlin:20260115T200000
DTEND;TZID=Europe/Berlin:20260115T200000
DTSTAMP:20260419T191840
CREATED:20250926T072130Z
LAST-MODIFIED:20250926T074634Z
UID:4940-1768507200-1768507200@z87.de
SUMMARY:Ármin Jámbor-Quartett - Jazz
DESCRIPTION:Ármin Jámbor hat bereits mehrfach seine raffinierte musikalische Persönlichkeit\, Virtuosität und kompositorisches Talent auf verschiedenen Bühnen Europas unter Beweis gestellt. Seit seinem letzten\, äußerst erfolgreichen Album-Release-Konzert arbeitet der junge Saxophonist unermüdlich an neuen Kompositionen\, die sich in lyrischem Ton entfalten\, dabei jedoch nicht an energetischem Charakter missen lassen. \nDiese Werke bringt Ármin gemeinsam mit außergewöhnlichen Musikerkollegen zur Aufführung: Bartha Mátyás\, der ungarische Pianist mit beeindruckender Technik\, war kürzlich mit Scott Robinson auf Tournee. Der US-amerikanische Bassist Danny Ziemann und Oleg Markov\, einer der gefragtesten Schlagzeuger der Wiener Jazzszene\, komplettieren das Ensemble. \nIm November 2024 gab die Band im ORF-Zentrum in Wien einen exklusiven Einblick in das Material des neuen Albums\, das im Herbst nach einer einwöchigen Österreich-Deutschland-Tournee in seiner endgültigen Studiofassung aufgenommen werden soll. \nBesetzung:Armin Jambor – Tenor-SaxophonMatyas Bartha – PianoDanny Ziemann – KontrabassOleg Markov – Schlagzeug \nAbendkasse: 20.-
URL:https://z87.de/event/260115/
CATEGORIES:Jazz
ATTACH;FMTTYPE=image/jpeg:https://z87.de/wp-content/uploads/2025/09/260115.jpg
ORGANIZER;CN="mainJAZZ":MAILTO:info@mainjazz.de
END:VEVENT
BEGIN:VEVENT
DTSTART;TZID=Europe/Berlin:20260116T200000
DTEND;TZID=Europe/Berlin:20260116T200000
DTSTAMP:20260419T191840
CREATED:20251114T052544Z
LAST-MODIFIED:20251114T052656Z
UID:5250-1768593600-1768593600@z87.de
SUMMARY:Hard Touch - Classic Rock & Blues Rock vom Feinsten
DESCRIPTION:Mitreißende Riffs\, gefühlvolle Gitarrensoli und ausdrucksstarke Vocals – HARD TOUCH steht seit über 40 Jahren für ehrliche\, handgemachte Rockmusik. Die Band verbindet den Sound des Classic Rock und Blues Rock zu einem energiegeladenen Live-Erlebnis voller Leidenschaft und Spielfreude. \nAuf dem Programm stehen Songs legendärer Bands wie The Beatles\, Queen\, CCR\, Golden Earring\, U2\, Rolling Stones\, ZZ Top und Deep Purple\, die HARD TOUCH in eigenen\, markanten Interpretationen auf die Bühne bringt. \nEin Abend für alle\, die den authentischen Rocksound vergangener Jahrzehnte lieben – kraftvoll\, lebendig und mit unverwechselbarem Charakter. \nAbendkasse 20.-
URL:https://z87.de/event/260116/
CATEGORIES:Blues-Rock
ATTACH;FMTTYPE=image/jpeg:https://z87.de/wp-content/uploads/2025/11/260116.jpg
END:VEVENT
BEGIN:VEVENT
DTSTART;TZID=Europe/Berlin:20260118T190000
DTEND;TZID=Europe/Berlin:20260118T190000
DTSTAMP:20260419T191840
CREATED:20250126T052250Z
LAST-MODIFIED:20260116T061852Z
UID:3347-1768762800-1768762800@z87.de
SUMMARY:Black Velvet Band - Entfällt krankheitsbedingt
DESCRIPTION:Die Würzburger Black Velvet Band hat sich in den vergangenen Jahren in die Herzen der Live–Musik-Fans gespielt. Oft als „fleißigste Band Unterfrankens“ bezeichnet\, spielten die Jungs bisher rund 2000 Konzerte in Deutschland\, der Schweiz\, Luxemburg und Frankreich. \nSie bringen eine Kofferraumladung voller traditioneller Instrumente und drei gute eingesungene Stimmen aus dem Fahrgastraum mit. Dann geht es los: \nMitreißende Rhythmen\, atemberaubend schnelle Instrumentals wechseln mit melancholischen Balladen und versetzen bisher noch alle Säle in Begeisterung. „We will folk you“ heisst das Motto\, Mitmachen ist angesagt. Ihr Irish Folk ist nie frontal von der Bühne runter sondern sucht immer die Stelle\, an der der Funke überspringt.
URL:https://z87.de/event/260118/
CATEGORIES:Folk
ATTACH;FMTTYPE=image/jpeg:https://z87.de/wp-content/uploads/2024/12/260118.jpg
END:VEVENT
BEGIN:VEVENT
DTSTART;TZID=Europe/Berlin:20260122T200000
DTEND;TZID=Europe/Berlin:20260122T200000
DTSTAMP:20260419T191840
CREATED:20250509T031804Z
LAST-MODIFIED:20251007T072648Z
UID:4390-1769112000-1769112000@z87.de
SUMMARY:Gankino Circus - Das Gegenteil von Rock’n’Roll
DESCRIPTION:Gankino Circus sind mit neuem Programm am Start: \nDas Gegenteil von Rock’n’Roll\nIn ihrem neuen Programm rücken Gankino Circus die Musik in den Mittelpunkt. Nach ausgiebigen Touren durchs In- und Ausland\, zahllosen Auftritten auf großen und kleinen Bühnen\, im Fernsehen sowie im Hörfunk brennen die vier musikalischen Hochseilartisten mehr denn je: Mit ihrer wilden Mischung aus virtuoser Volksmusik\, unbändigem Rock’n’Roll und entfesseltem Polka-Pop fackeln die Jungs ein musikalisches Feuerwerk ab – und zwar ohne Netz und doppeltem Boden! \nAls Zündschnur dieser musikalischen Breitseite dient den vier meisterhaften Musikern\, begnadeten Geschichtenerzählern und kauzigen Charakterköpfen wie immer der Humor: Da plaudern die westmittelfränkischen Weltmänner munter aus dem Nähkästchen\, gewähren nie dagewesene Einblicke ins große Kleinkunst-Showbiz und berichten von den Turbulenzen\, die es mit sich bringt\, wenn man plötzlich von der Weltbühne zurück ins verschlafene Dorfidyll der eigenen Jugend katapultiert und dort mit dem Gegenteil von Rock’n’Roll konfrontiert wird. Da tun sich Spannungsfelder auf\, das kannst du dir nicht ausdenken! Und wie immer bei Gankino Circus gehen auch dieses Mal handgemachte Musik\, ein hinreißend verqueres Bühnengeschehen und eine große Portion provinzieller Wahnsinn eine unberechenbare Melange ein\, bei der auf der Bühne alles\, aber auch wirklich alles passieren kann … \nRasante Melodien\, schräger Humor und charmante Bühnenfiguren sind die zentralen Zutaten des einzigartigen Konzertkabaretts – ein Genre\, das die Ausnahmekünstler nicht nur erfunden\, sondern mittlerweile zur kultverdächtigen Kunstform erhoben haben. Aktuell spielen Gankino Circus vier von Publikum und Presse gleichermaßen gefeierte Bühnenprogramme: „Irrsinn und Idyll“\, „Die Letzten ihrer Art“\, „Bei den Finnen“ und „Das Gegenteil von Rock’n’Roll“. \nAbendkasse 35.- \nhttps://www.youtube.com/watch?v=0fim8F0_LWk
URL:https://z87.de/event/260122/
CATEGORIES:Kabarett,Welt-Musik
ATTACH;FMTTYPE=image/jpeg:https://z87.de/wp-content/uploads/2025/05/260122.jpg
END:VEVENT
BEGIN:VEVENT
DTSTART;TZID=Europe/Berlin:20260125T163000
DTEND;TZID=Europe/Berlin:20260125T173000
DTSTAMP:20260419T191840
CREATED:20260107T050741Z
LAST-MODIFIED:20260107T082600Z
UID:5470-1769358600-1769362200@z87.de
SUMMARY:Offene Yogastunde
DESCRIPTION:Yoga mit der Würzburger Liste e. V. im Keller Z87 \nDie Würzburger Liste e. V. lädt zu einer gemeinsamen Yoga-Stunde im Keller Z87 ein. Ziel ist es\, Räume für Begegnung\, Gesundheit und Gemeinschaft zu schaffen – bewusst auch abseits klassischer politischer Formate. \nAm Sonntag\, den 25. Januar\, findet von 16:30 bis 17:30 Uhr eine offene Yoga-Stunde im Keller Z87 auf dem Bürgerbräu-Gelände statt. Eingeladen sind alle Interessierten\, unabhängig von Vorerfahrung. \nDie Veranstaltung richtet sich an Menschen\, die sich bewusst Zeit für sich nehmen\, zur Ruhe kommen und neue Energie tanken möchten – in entspannter Atmosphäre und gemeinschaftlichem Rahmen. \nMitbringen: Bequeme Kleidung\, wer hat eine Yogamatte und ggf. ein Handtuch oder Decke als Unterlage – wir werden ein paar Matten bei Bedarf stellenGeeignet für alle\, die offen sind für Bewegung – jeder macht so\, wie er kann – das Alter spielt keine Rolle!Wer teilnehmen möchte\, trägt sich bitte unter diesem Link ein\, damit wir einen Überblick über die grobe Teilnehmerzahl haben – ebenso bitte eingeben\, ob eine Matte benötigt wird.
URL:https://z87.de/event/260125/
ATTACH;FMTTYPE=image/jpeg:https://z87.de/wp-content/uploads/2026/01/260125.jpg
END:VEVENT
BEGIN:VEVENT
DTSTART;VALUE=DATE:20260129
DTEND;VALUE=DATE:20260202
DTSTAMP:20260419T191840
CREATED:20260113T153421Z
LAST-MODIFIED:20260114T053704Z
UID:5507-1769644800-1769990399@z87.de
SUMMARY:52. Internationales Filmwochenende Würzburg
DESCRIPTION:Das Internationale Filmwochenende Würzburg findet im Jahr 2026 zum 52. Mal statt\, und zwar vom 29. Januar bis zum 1. Februar 2026. Das Programm besteht aus etwa 60 Spiel- und Dokumentarfilmen\, Kurzfilmen sowie einer Reihe von Sonderveranstaltungen. Von der französischen Großproduktion auf Hollywoodniveau bis zum südkoreanischen Horrorschocker\, über das deutsche No-Budget-Familiendrama und den amerikanischen Independent-Film bis hin zum Kurzfilm und der Stummfilm-Matinee haben alle Genres auf dem Filmwochenende ihren Platz. \nDas Programmheft kann ab jetzt Online auf er Webseite abgerufen werden. \nDie Printfassung wird in den nächsten Tagen dann auch an diversen Stellen in der Stadt ausliegen. \n  \nDonnerstag\nFreitag\nSamstag\nSonntag\n– \n– \n11:00 Cathedrals of Culture \n11:00 Gerry Adams: A Ballymurphy Man \n– \n– \n13:00 Girls Don’t Cry \n13:30 Die innere Sicherheit \n– \n15:15 Niñxs \n15:15 Soldaten des Lichts \n16:00 Mikuba \n17:00 Columbus \n17:00 Sechswochenamt \n17:45 Promis le ciel \n17:30 Hemme’nin Öldüğü Günlerden Biri \n19:30 Météors \n19:15 Soldaten des Lichts \n– \n19:30 Gespenster \n19:15 Runawaystars \n21:30 The Things You Kill \n22:00 Haunter from Beyond \n21:45 Hemme’nin Öldüğü Günlerden Biri \n– \n– \n– \n23:30 Mag Mag \n–
URL:https://z87.de/event/260129/
CATEGORIES:Film
ATTACH;FMTTYPE=image/jpeg:https://z87.de/wp-content/uploads/2026/01/260129.jpg
END:VEVENT
END:VCALENDAR