BEGIN:VCALENDAR
VERSION:2.0
PRODID:-// - ECPv6.15.20//NONSGML v1.0//EN
CALSCALE:GREGORIAN
METHOD:PUBLISH
X-ORIGINAL-URL:https://z87.de
X-WR-CALDESC:Veranstaltungen für 
REFRESH-INTERVAL;VALUE=DURATION:PT1H
X-Robots-Tag:noindex
X-PUBLISHED-TTL:PT1H
BEGIN:VTIMEZONE
TZID:Europe/Berlin
BEGIN:DAYLIGHT
TZOFFSETFROM:+0100
TZOFFSETTO:+0200
TZNAME:CEST
DTSTART:20250330T010000
END:DAYLIGHT
BEGIN:STANDARD
TZOFFSETFROM:+0200
TZOFFSETTO:+0100
TZNAME:CET
DTSTART:20251026T010000
END:STANDARD
BEGIN:DAYLIGHT
TZOFFSETFROM:+0100
TZOFFSETTO:+0200
TZNAME:CEST
DTSTART:20260329T010000
END:DAYLIGHT
BEGIN:STANDARD
TZOFFSETFROM:+0200
TZOFFSETTO:+0100
TZNAME:CET
DTSTART:20261025T010000
END:STANDARD
BEGIN:DAYLIGHT
TZOFFSETFROM:+0100
TZOFFSETTO:+0200
TZNAME:CEST
DTSTART:20270328T010000
END:DAYLIGHT
BEGIN:STANDARD
TZOFFSETFROM:+0200
TZOFFSETTO:+0100
TZNAME:CET
DTSTART:20271031T010000
END:STANDARD
END:VTIMEZONE
BEGIN:VEVENT
DTSTART;TZID=Europe/Berlin:20261105T200000
DTEND;TZID=Europe/Berlin:20261105T200000
DTSTAMP:20260423T154242
CREATED:20251205T042644Z
LAST-MODIFIED:20251205T043550Z
UID:5321-1793908800-1793908800@z87.de
SUMMARY:Götz Widmann – Liedermacher\, Anarcho-Poet\, Partytier
DESCRIPTION:Bekannt ist Götz Widmann vor allem für seine gnadenlos ehrlichen\, vor Lebenslust sprühenden Partyhymnen wie „Heute mach ich einen drauf“\, „Holland“ oder „Hank starb an ’ner Überdosis Hasch.“ Aber wer ihn nur darauf reduziert\, verpasst die halbe Wahrheit: Mit Songs wie „Die zwei Trauben“\, „Ich liebe mich“ oder „Romi“ hat er ein paar der schönsten deutschen Liebeslieder überhaupt geschrieben. Genau diese Mischung macht seine Konzerte so besonders: ungehemmte kollektive gute Laune mit Gänsehaut inklusive. \nGötz Widmann ist alles andere als ein naiver Gutmensch\, sein schwarzer Humor sucht seinesgleichen. Und doch feiern seine Lieder immer wieder die Liebe\, das Miteinander und die Würde jedes einzelnen Menschen – kompromisslos\, ohne falsche Tabus\, manchmal rotzfrech\, manchmal zärtlich. Mit einer fast prophetischen Gabe schreibt er seit über 30 Jahren Songs\, die sich heute oft noch aktueller anfühlen als zu ihrer Entstehungszeit. \nTypen wie Götz Widmann sind selten geworden\, dabei wurden sie noch nie so sehr gebraucht wie jetzt. Sein aktuelles Programm „Party Time“ ist ein Abend für Abend neu explodierendes Fest: ein lebensfroher\, immer wieder frischer Mix aus Greatest Hits\, lange nicht mehr gehörten Raritäten und brandneuen Highlights. \nAbendkasse 28.-
URL:https://z87.de/event/261105/
CATEGORIES:Singer / Songwriter
ATTACH;FMTTYPE=image/jpeg:https://z87.de/wp-content/uploads/2025/12/261105.jpg
END:VEVENT
END:VCALENDAR