BEGIN:VCALENDAR
VERSION:2.0
PRODID:-// - ECPv6.15.20//NONSGML v1.0//EN
CALSCALE:GREGORIAN
METHOD:PUBLISH
X-ORIGINAL-URL:https://z87.de
X-WR-CALDESC:Veranstaltungen für 
REFRESH-INTERVAL;VALUE=DURATION:PT1H
X-Robots-Tag:noindex
X-PUBLISHED-TTL:PT1H
BEGIN:VTIMEZONE
TZID:Europe/Berlin
BEGIN:DAYLIGHT
TZOFFSETFROM:+0100
TZOFFSETTO:+0200
TZNAME:CEST
DTSTART:20250330T010000
END:DAYLIGHT
BEGIN:STANDARD
TZOFFSETFROM:+0200
TZOFFSETTO:+0100
TZNAME:CET
DTSTART:20251026T010000
END:STANDARD
BEGIN:DAYLIGHT
TZOFFSETFROM:+0100
TZOFFSETTO:+0200
TZNAME:CEST
DTSTART:20260329T010000
END:DAYLIGHT
BEGIN:STANDARD
TZOFFSETFROM:+0200
TZOFFSETTO:+0100
TZNAME:CET
DTSTART:20261025T010000
END:STANDARD
BEGIN:DAYLIGHT
TZOFFSETFROM:+0100
TZOFFSETTO:+0200
TZNAME:CEST
DTSTART:20270328T010000
END:DAYLIGHT
BEGIN:STANDARD
TZOFFSETFROM:+0200
TZOFFSETTO:+0100
TZNAME:CET
DTSTART:20271031T010000
END:STANDARD
END:VTIMEZONE
BEGIN:VEVENT
DTSTART;TZID=Europe/Berlin:20260531T190000
DTEND;TZID=Europe/Berlin:20260531T190000
DTSTAMP:20260421T103916
CREATED:20251112T041731Z
LAST-MODIFIED:20251112T051651Z
UID:5218-1780254000-1780254000@z87.de
SUMMARY:Little River Eagles - The best of Eagles & Little River Band
DESCRIPTION:Die Little River EAGLES sind die europaweit einzige Band mit dem 2in1-Tribute-Konzept: „THE BEST OF EAGLES & LITTLE RIVER BAND“.\nDie Band ist der gigantischen Herausforderung gefolgt und hat sich\, mit bis zu fünf Gesangsstimmen und drei Lead-Gitarren\, der unverwechselbaren Gesangs- und Gitarrenarrangements ihrer großen Vorbilder angenommen. Aus diesen Proben heraus ist eine zweieinhalbstündige\, stimmungsgeladene und emotionale Tribute-Hybrid-Show entstanden. Voll gepackt mit den unvergessenen und unglaublich kompatiblen Welthits zweier grandioser Bands. \nWie gut und authentisch die 6 Jungs aus dem Rhein-Main-Gebiet und Franken tatsächlich sind\, macht ein sehr prominenter Kommentar zu einem ihrer YouTube-Videos deutlich:\n„Nice job guys. Always a thrill to hear one of my songs done well …“ (Graeham Goble\, Mitbegründer\, Gitarrist und Sänger der Little River Band). \nEin Konzert der Little River EAGLES ist ein Muss für Rock-\, Soul-\, Blues- und Country-Fans\, die mehrstimmige Gesangs- und Gitarren-Arrangements lieben und auf feinste rockige\, gefühlvolle und harmonische Westcoast-Music stehen. \nBesetzung:\nAndre Amberg (Producer\, Bandleader\, Guitar & Vocals)\nUwe Kartmann (Guitar & Vocals)\nAndi Knoll (Guitar & Vocals)\nErhard Koch (Bass & Vocals)\nMarcus Kröll (Keyboards & Vocals)\nArmin Metzler (Drums & Vocals)\nCharly Bacher (Producer & Sound-Engineer) \nAbendkasse 25.-
URL:https://z87.de/event/260531/
CATEGORIES:Blues-Rock
ATTACH;FMTTYPE=image/jpeg:https://z87.de/wp-content/uploads/2025/11/260531.jpg
END:VEVENT
END:VCALENDAR