BEGIN:VCALENDAR
VERSION:2.0
PRODID:-// - ECPv6.15.20//NONSGML v1.0//EN
CALSCALE:GREGORIAN
METHOD:PUBLISH
X-ORIGINAL-URL:https://z87.de
X-WR-CALDESC:Veranstaltungen für 
REFRESH-INTERVAL;VALUE=DURATION:PT1H
X-Robots-Tag:noindex
X-PUBLISHED-TTL:PT1H
BEGIN:VTIMEZONE
TZID:Europe/Berlin
BEGIN:DAYLIGHT
TZOFFSETFROM:+0100
TZOFFSETTO:+0200
TZNAME:CEST
DTSTART:20250330T010000
END:DAYLIGHT
BEGIN:STANDARD
TZOFFSETFROM:+0200
TZOFFSETTO:+0100
TZNAME:CET
DTSTART:20251026T010000
END:STANDARD
BEGIN:DAYLIGHT
TZOFFSETFROM:+0100
TZOFFSETTO:+0200
TZNAME:CEST
DTSTART:20260329T010000
END:DAYLIGHT
BEGIN:STANDARD
TZOFFSETFROM:+0200
TZOFFSETTO:+0100
TZNAME:CET
DTSTART:20261025T010000
END:STANDARD
BEGIN:DAYLIGHT
TZOFFSETFROM:+0100
TZOFFSETTO:+0200
TZNAME:CEST
DTSTART:20270328T010000
END:DAYLIGHT
BEGIN:STANDARD
TZOFFSETFROM:+0200
TZOFFSETTO:+0100
TZNAME:CET
DTSTART:20271031T010000
END:STANDARD
END:VTIMEZONE
BEGIN:VEVENT
DTSTART;TZID=Europe/Berlin:20260524T190000
DTEND;TZID=Europe/Berlin:20260524T190000
DTSTAMP:20260421T103924
CREATED:20251210T035705Z
LAST-MODIFIED:20251210T035743Z
UID:5362-1779649200-1779649200@z87.de
SUMMARY:SuzzieQ - Creedence Cleerwater Revival
DESCRIPTION:Innerhalb kürzester Zeit hat sich die Band aus dem Raum Aschaffenburg einen hervorragenden Ruf als außergewöhnlich gute Liveband erspielt. Dabei spielt sowohl die langjährige Bühnenerfahrung der Bandmitglieder als auch deren Verbundenheit mit den originalen Klassikern eine entscheidende Rolle. SuzzieQ kopieren nicht einfach die Songs von CCR\, sondern machen ihr eigenes Ding\, ohne jemals auch nur ansatzweise die Authentizität der Originale aus den Augen zu verlieren. So entsteht eine absolut ehrliche und energiegeladene Mischung\, die jeden Konzertbesucher vom ersten Ton an in ihren Bann zieht. SuzzieQ nehmen ihr Publikum mit auf eine Zeitreise in die späten 60er und frühen 70er Jahre und perfektionieren dabei CCRs Bayou Rock. \nZu hören sind alle Hits wie Suzie Q\, Proud Mary\, I Heard It Through The Grapevine\, Have You Ever Seen the Rain\, Bad Moon Rising\, Green River\, Lookin‘ Out My Back Door\, Down On The Corner oder Hey Tonight. Allesamt absolute Klassiker und Evergreens\, die auch heute noch von allen Radiostationen regelmäßig gespielt werden. \nKomm mit SuzzieQ auf deine Zeitreise und genieße zwei Stunden CCR vom Feinsten! \nAbendkasse 20.-
URL:https://z87.de/event/260524/
CATEGORIES:Classic-Rock
ATTACH;FMTTYPE=image/jpeg:https://z87.de/wp-content/uploads/2025/12/260524.jpg
END:VEVENT
END:VCALENDAR