BEGIN:VCALENDAR
VERSION:2.0
PRODID:-// - ECPv6.15.20//NONSGML v1.0//EN
CALSCALE:GREGORIAN
METHOD:PUBLISH
X-ORIGINAL-URL:https://z87.de
X-WR-CALDESC:Veranstaltungen für 
REFRESH-INTERVAL;VALUE=DURATION:PT1H
X-Robots-Tag:noindex
X-PUBLISHED-TTL:PT1H
BEGIN:VTIMEZONE
TZID:Europe/Berlin
BEGIN:DAYLIGHT
TZOFFSETFROM:+0100
TZOFFSETTO:+0200
TZNAME:CEST
DTSTART:20250330T010000
END:DAYLIGHT
BEGIN:STANDARD
TZOFFSETFROM:+0200
TZOFFSETTO:+0100
TZNAME:CET
DTSTART:20251026T010000
END:STANDARD
BEGIN:DAYLIGHT
TZOFFSETFROM:+0100
TZOFFSETTO:+0200
TZNAME:CEST
DTSTART:20260329T010000
END:DAYLIGHT
BEGIN:STANDARD
TZOFFSETFROM:+0200
TZOFFSETTO:+0100
TZNAME:CET
DTSTART:20261025T010000
END:STANDARD
BEGIN:DAYLIGHT
TZOFFSETFROM:+0100
TZOFFSETTO:+0200
TZNAME:CEST
DTSTART:20270328T010000
END:DAYLIGHT
BEGIN:STANDARD
TZOFFSETFROM:+0200
TZOFFSETTO:+0100
TZNAME:CET
DTSTART:20271031T010000
END:STANDARD
END:VTIMEZONE
BEGIN:VEVENT
DTSTART;TZID=Europe/Berlin:20260522T200000
DTEND;TZID=Europe/Berlin:20260522T200000
DTSTAMP:20260419T175812
CREATED:20251021T025051Z
LAST-MODIFIED:20251021T025212Z
UID:5136-1779480000-1779480000@z87.de
SUMMARY:Depeche Mode on piano - played by Thilo
DESCRIPTION:Liebhaber der britischen Synthie-Pop-/Rock-Legende DEPECHE MODE dürfen sich auf ein außergewöhnliches Klavierkonzert freuen: Thilo aus München interpretiert die Songs der Kultband auf ganz eigene Weise – sensibel\, emotional und voller Dynamik. \nDie großen Klassiker wie Enjoy the Silence\, Everything Counts oder Never Let Me Down Again erklingen in neuem\, klangvollem Gewand. Daneben kommen auch Kenner auf ihre Kosten – etwa mit selten gehörten Stücken wie Judas oder But Not Tonight. \nMal reduziert-melancholisch\, mal poppig-pompös: Thilos Klavierspiel bringt die emotionale Tiefe und klangliche Vielfalt von DEPECHE MODE auf berührende Weise zum Ausdruck. \nAuch wer mit dem Werk der Band DEPECHE MODE nicht so sehr vertraut ist\, wird von diesem besonderen Konzerterlebnis begeistert sein. \nTickets
URL:https://z87.de/event/260522/
ATTACH;FMTTYPE=image/jpeg:https://z87.de/wp-content/uploads/2025/10/260522.jpg
END:VEVENT
END:VCALENDAR