BEGIN:VCALENDAR
VERSION:2.0
PRODID:-// - ECPv6.15.20//NONSGML v1.0//EN
CALSCALE:GREGORIAN
METHOD:PUBLISH
X-ORIGINAL-URL:https://z87.de
X-WR-CALDESC:Veranstaltungen für 
REFRESH-INTERVAL;VALUE=DURATION:PT1H
X-Robots-Tag:noindex
X-PUBLISHED-TTL:PT1H
BEGIN:VTIMEZONE
TZID:Europe/Berlin
BEGIN:DAYLIGHT
TZOFFSETFROM:+0100
TZOFFSETTO:+0200
TZNAME:CEST
DTSTART:20250330T010000
END:DAYLIGHT
BEGIN:STANDARD
TZOFFSETFROM:+0200
TZOFFSETTO:+0100
TZNAME:CET
DTSTART:20251026T010000
END:STANDARD
BEGIN:DAYLIGHT
TZOFFSETFROM:+0100
TZOFFSETTO:+0200
TZNAME:CEST
DTSTART:20260329T010000
END:DAYLIGHT
BEGIN:STANDARD
TZOFFSETFROM:+0200
TZOFFSETTO:+0100
TZNAME:CET
DTSTART:20261025T010000
END:STANDARD
BEGIN:DAYLIGHT
TZOFFSETFROM:+0100
TZOFFSETTO:+0200
TZNAME:CEST
DTSTART:20270328T010000
END:DAYLIGHT
BEGIN:STANDARD
TZOFFSETFROM:+0200
TZOFFSETTO:+0100
TZNAME:CET
DTSTART:20271031T010000
END:STANDARD
END:VTIMEZONE
BEGIN:VEVENT
DTSTART;TZID=Europe/Berlin:20260517T190000
DTEND;TZID=Europe/Berlin:20260517T190000
DTSTAMP:20260419T175721
CREATED:20260118T023325Z
LAST-MODIFIED:20260119T021231Z
UID:5572-1779044400-1779044400@z87.de
SUMMARY:Black Velvet Band - Irish Folk at its best
DESCRIPTION:Die Würzburger Black Velvet Band hat sich in den vergangenen Jahren in die Herzen der Live–Musik-Fans gespielt. Oft als „fleißigste Band Unterfrankens“ bezeichnet\, spielten die Jungs bisher rund 2000 Konzerte in Deutschland\, der Schweiz\, Luxemburg und Frankreich. \nSie bringen eine Kofferraumladung voller traditioneller Instrumente und drei gute eingesungene Stimmen aus dem Fahrgastraum mit. Dann geht es los: \nMitreißende Rhythmen\, atemberaubend schnelle Instrumentals wechseln mit melancholischen Balladen und versetzen bisher noch alle Säle in Begeisterung. „We will folk you“ heisst das Motto\, Mitmachen ist angesagt. Ihr Irish Folk ist nie frontal von der Bühne runter sondern sucht immer die Stelle\, an der der Funke überspringt. \nAbendkasse 20.-
URL:https://z87.de/event/260517/
CATEGORIES:Folk
ATTACH;FMTTYPE=image/jpeg:https://z87.de/wp-content/uploads/2026/01/260517.jpg
END:VEVENT
END:VCALENDAR