BEGIN:VCALENDAR
VERSION:2.0
PRODID:-// - ECPv6.15.20//NONSGML v1.0//EN
CALSCALE:GREGORIAN
METHOD:PUBLISH
X-ORIGINAL-URL:https://z87.de
X-WR-CALDESC:Veranstaltungen für 
REFRESH-INTERVAL;VALUE=DURATION:PT1H
X-Robots-Tag:noindex
X-PUBLISHED-TTL:PT1H
BEGIN:VTIMEZONE
TZID:Europe/Berlin
BEGIN:DAYLIGHT
TZOFFSETFROM:+0100
TZOFFSETTO:+0200
TZNAME:CEST
DTSTART:20250330T010000
END:DAYLIGHT
BEGIN:STANDARD
TZOFFSETFROM:+0200
TZOFFSETTO:+0100
TZNAME:CET
DTSTART:20251026T010000
END:STANDARD
BEGIN:DAYLIGHT
TZOFFSETFROM:+0100
TZOFFSETTO:+0200
TZNAME:CEST
DTSTART:20260329T010000
END:DAYLIGHT
BEGIN:STANDARD
TZOFFSETFROM:+0200
TZOFFSETTO:+0100
TZNAME:CET
DTSTART:20261025T010000
END:STANDARD
BEGIN:DAYLIGHT
TZOFFSETFROM:+0100
TZOFFSETTO:+0200
TZNAME:CEST
DTSTART:20270328T010000
END:DAYLIGHT
BEGIN:STANDARD
TZOFFSETFROM:+0200
TZOFFSETTO:+0100
TZNAME:CET
DTSTART:20271031T010000
END:STANDARD
END:VTIMEZONE
BEGIN:VEVENT
DTSTART;TZID=Europe/Berlin:20260507T200000
DTEND;TZID=Europe/Berlin:20260507T200000
DTSTAMP:20260421T115629
CREATED:20251015T021855Z
LAST-MODIFIED:20260416T020010Z
UID:5082-1778184000-1778184000@z87.de
SUMMARY:Margarita Gonzalez & Los Cucara-cha-cha
DESCRIPTION:Was haben Deep Purple\, Prince und James Bond gemeinsam? Genau\, sie gelten als die wahren Erfinder des Cha-Cha-Cha! Glauben Sie etwa nicht…? \nMargarita González und ihr fabulöses\, zehnköpfiges Orchester „Los Cucara-cha-cha“ wird Sie in ihrer fantastischen und mehr als weltberühmten Show davon überzeugen\, daß es in der Welt der Musik weitaus weniger Grenzen gibt\, als man bisher glauben mochte. Lassen Sie sich die Ohren öffnen für die unglaublichsten Perlen der Popgeschichte in ihrem ursprünglichen Sound. Vergessen Sie Prince\, Tom Jones oder Madonna\, so wie sie uns jahrelang von unwissenden Musik-Mogulen vorgeführt wurden! Denn in Wahrheit ist alles Cha-Cha-Cha und will auch so klingen! Werden Sie zu einem Wissenden und erkennen Sie\, daß auch in Ihnen ein traumatisierter Mambo-King steckt\, der nur darauf wartet befreit zu werden! \nMargarita Gonzalez\nOmar Plasencia\nLalo Caballero\nCarlos de las Aguas\nDirk Rumig\nJohannes Liepold\nTilman Müller\nChristof Lewandowski\nJoe Krieg\nUlli Kleideiter\nWerner Goldbach \nWebsite: www.cucas-band.de \nAbendkasse 20.-
URL:https://z87.de/event/260507/
CATEGORIES:Welt-Musik
ATTACH;FMTTYPE=image/jpeg:https://z87.de/wp-content/uploads/2025/10/260507.jpg
END:VEVENT
END:VCALENDAR