BEGIN:VCALENDAR
VERSION:2.0
PRODID:-// - ECPv6.15.20//NONSGML v1.0//EN
CALSCALE:GREGORIAN
METHOD:PUBLISH
X-ORIGINAL-URL:https://z87.de
X-WR-CALDESC:Veranstaltungen für 
REFRESH-INTERVAL;VALUE=DURATION:PT1H
X-Robots-Tag:noindex
X-PUBLISHED-TTL:PT1H
BEGIN:VTIMEZONE
TZID:Europe/Berlin
BEGIN:DAYLIGHT
TZOFFSETFROM:+0100
TZOFFSETTO:+0200
TZNAME:CEST
DTSTART:20250330T010000
END:DAYLIGHT
BEGIN:STANDARD
TZOFFSETFROM:+0200
TZOFFSETTO:+0100
TZNAME:CET
DTSTART:20251026T010000
END:STANDARD
BEGIN:DAYLIGHT
TZOFFSETFROM:+0100
TZOFFSETTO:+0200
TZNAME:CEST
DTSTART:20260329T010000
END:DAYLIGHT
BEGIN:STANDARD
TZOFFSETFROM:+0200
TZOFFSETTO:+0100
TZNAME:CET
DTSTART:20261025T010000
END:STANDARD
BEGIN:DAYLIGHT
TZOFFSETFROM:+0100
TZOFFSETTO:+0200
TZNAME:CEST
DTSTART:20270328T010000
END:DAYLIGHT
BEGIN:STANDARD
TZOFFSETFROM:+0200
TZOFFSETTO:+0100
TZNAME:CET
DTSTART:20271031T010000
END:STANDARD
END:VTIMEZONE
BEGIN:VEVENT
DTSTART;TZID=Europe/Berlin:20260421T190000
DTEND;TZID=Europe/Berlin:20260421T190000
DTSTAMP:20260419T162212
CREATED:20260318T104541Z
LAST-MODIFIED:20260407T080926Z
UID:5793-1776798000-1776798000@z87.de
SUMMARY:Weltautismustag - Harfner Helian und Vernissage „Künstler im Licht“
DESCRIPTION:Harfenmusik von Harfner Helian und die Vernissage einer Ausstellung autistischer Künstler. \nHarfner Helians Spezialinstrument ist die mittelalterliche Harfe. Auf ihr bringt er nicht nur mittelalterliche Stücke zum Vortrag\, sondern auch besonders Irish and English Folk Music sowie auch meditative Klangversionen. Bei einigen irischen und keltischen Tunes wird er von José F. Sanchez auf der Fiddle und Alfred Wolz auf der Gitarre begleitet. \nDie Musik von Harfner Helian umrahmt die Vernissage der Bilderausstellung „ Künstler im Licht“. Hier arbeiten seit über zehn Jahren Künstler mit Autismus und Künstler ohne Behinderung wöchentlich in Tandems im Atelier zusammen. Die in dieser Begegnung entstehende ganz besondere Beziehung ist die Basis für einen besonderen kreativen Prozess\, in dem gemeinsame Bilder entstehen. Eine Auswahl dieser Bilder wird bis Ende Mai im Keller Z 87 zu sehen sein. Die Ausstellung ermöglicht faszinierende Einblicke in die jeweils spezifische Sichtweise dieser Künstler auf die Welt um sie herum. \nDiese Verbindung von außergewöhnlicher Musik mit der Vorstellung besonderer Kunstwerke findet anlässlich des Welt-Autismus-Tages statt. \n																													 \nTickets\nAbendkasse regulär 15.- / ermäßigt 10.-
URL:https://z87.de/event/260421/
CATEGORIES:Ausstellung
ATTACH;FMTTYPE=image/jpeg:https://z87.de/wp-content/uploads/2026/03/260421-1.jpg
END:VEVENT
END:VCALENDAR