BEGIN:VCALENDAR
VERSION:2.0
PRODID:-// - ECPv6.15.20//NONSGML v1.0//EN
CALSCALE:GREGORIAN
METHOD:PUBLISH
X-ORIGINAL-URL:https://z87.de
X-WR-CALDESC:Veranstaltungen für 
REFRESH-INTERVAL;VALUE=DURATION:PT1H
X-Robots-Tag:noindex
X-PUBLISHED-TTL:PT1H
BEGIN:VTIMEZONE
TZID:Europe/Berlin
BEGIN:DAYLIGHT
TZOFFSETFROM:+0100
TZOFFSETTO:+0200
TZNAME:CEST
DTSTART:20250330T010000
END:DAYLIGHT
BEGIN:STANDARD
TZOFFSETFROM:+0200
TZOFFSETTO:+0100
TZNAME:CET
DTSTART:20251026T010000
END:STANDARD
BEGIN:DAYLIGHT
TZOFFSETFROM:+0100
TZOFFSETTO:+0200
TZNAME:CEST
DTSTART:20260329T010000
END:DAYLIGHT
BEGIN:STANDARD
TZOFFSETFROM:+0200
TZOFFSETTO:+0100
TZNAME:CET
DTSTART:20261025T010000
END:STANDARD
BEGIN:DAYLIGHT
TZOFFSETFROM:+0100
TZOFFSETTO:+0200
TZNAME:CEST
DTSTART:20270328T010000
END:DAYLIGHT
BEGIN:STANDARD
TZOFFSETFROM:+0200
TZOFFSETTO:+0100
TZNAME:CET
DTSTART:20271031T010000
END:STANDARD
END:VTIMEZONE
BEGIN:VEVENT
DTSTART;TZID=Europe/Berlin:20260213T200000
DTEND;TZID=Europe/Berlin:20260213T200000
DTSTAMP:20260419T204225
CREATED:20250225T032551Z
LAST-MODIFIED:20260119T014008Z
UID:3978-1771012800-1771012800@z87.de
SUMMARY:Die Zauberwürfel - Neue Deutsche Welle
DESCRIPTION:„Die Zauberwürfel“ zollen mit viel Spaß an der Sache einem spannenden Kapitel der Popmusik Tribut. Wer auf Ideal\, Extrabreit\, Spliff\, Ukw\, Fräulein Menke und deren Zeitgenossen steht ist hier an der richtigen Adresse\, denn das Programm besteht ausschließlich aus „Neue-Deutsche-Welle“ Songs der 80er-Jahre. \n„Die Zauberwürfel“ sind aber beileibe keine reine Spaßkapelle\, die nur die Ballermann-kompatiblen Hits abliefert. Die sehr diverse Musik dieser Zeit nachzuspielen ist ihnen ein echtes Anliegen\, auch und gerade weil diese Band überwiegend aus Berufsmusikern besteht\, die sonst in diversen Gruppen von Reggae bis Metal sowie als Instrumentallehrer und Producer ihre Brötchen verdienen. \nTrotzdem nehmen sie ihre Rolle mit einer gehörigen Portion Humor wenn sie das Publikum zur gemeinsamen Zeitreise einladen. Vorbeikommen und mitfeiern! \nDa brennt nicht nur die Schule und steigen die 99 Luftballons\, da entstehen Deja Vu`s und Dreiklangs-Dimensionen. Anna wird von ihrem goldenen Reiter in den Sternenhimmel entführt und Major Tom flüchtet nach einem Banküberfall über hohe Berge zum Märchenprinzen\, der den König von Deutschland mit ´Hallo Klaus´ begrüßt… Irgendwie\, irgendwo\, irgendwann wird dann der Eisbär von seiner Monotonie auf dem Leuchtturm erlöst und zu einem Rendezvous mit Katharine und einer Pizza Carbonara eingeladen. Zum Glück hat Fred vom Jupiter nur geträumt\, dass er im Tretboot in Seenot gerät… das Ganze geht dann bis die Polizisten kommen oder nur noch die kleine Taschenlampe brennt! \nDie Zauberwürfel im Netz: Facebook
URL:https://z87.de/event/260213/
CATEGORIES:Neue Deutsche Welle
ATTACH;FMTTYPE=image/jpeg:https://z87.de/wp-content/uploads/2025/02/260213-1.jpg
END:VEVENT
END:VCALENDAR