BEGIN:VCALENDAR
VERSION:2.0
PRODID:-// - ECPv6.15.20//NONSGML v1.0//EN
CALSCALE:GREGORIAN
METHOD:PUBLISH
X-ORIGINAL-URL:https://z87.de
X-WR-CALDESC:Veranstaltungen für 
REFRESH-INTERVAL;VALUE=DURATION:PT1H
X-Robots-Tag:noindex
X-PUBLISHED-TTL:PT1H
BEGIN:VTIMEZONE
TZID:Europe/Berlin
BEGIN:DAYLIGHT
TZOFFSETFROM:+0100
TZOFFSETTO:+0200
TZNAME:CEST
DTSTART:20250330T010000
END:DAYLIGHT
BEGIN:STANDARD
TZOFFSETFROM:+0200
TZOFFSETTO:+0100
TZNAME:CET
DTSTART:20251026T010000
END:STANDARD
BEGIN:DAYLIGHT
TZOFFSETFROM:+0100
TZOFFSETTO:+0200
TZNAME:CEST
DTSTART:20260329T010000
END:DAYLIGHT
BEGIN:STANDARD
TZOFFSETFROM:+0200
TZOFFSETTO:+0100
TZNAME:CET
DTSTART:20261025T010000
END:STANDARD
BEGIN:DAYLIGHT
TZOFFSETFROM:+0100
TZOFFSETTO:+0200
TZNAME:CEST
DTSTART:20270328T010000
END:DAYLIGHT
BEGIN:STANDARD
TZOFFSETFROM:+0200
TZOFFSETTO:+0100
TZNAME:CET
DTSTART:20271031T010000
END:STANDARD
END:VTIMEZONE
BEGIN:VEVENT
DTSTART;TZID=Europe/Berlin:20260207T170000
DTEND;TZID=Europe/Berlin:20260207T170000
DTSTAMP:20260419T191921
CREATED:20260119T031653Z
LAST-MODIFIED:20260119T032142Z
UID:5590-1770483600-1770483600@z87.de
SUMMARY:"Innere Landschaften" - Vernissage mit der Künstlerin Teresa Schardt
DESCRIPTION:In ihrer neuen Serie „Innere Landschaften“ verwandelt Teresa Schardt das klassische Frauenportrait in eine topografische Erkundung des Inneren. \nViele neue Arbeiten erzählen von der Vielschichtigkeit weiblicher Erfahrung – von Ruhe und Widerstand\, Erinnerung\, Fürsorge und Selbstbehauptung. \nJedes Portrait gleicht einer Landschaft: eine Küste\, ein Moor\, eine Stadt\, ein Garten… Die Gesichter werden zu Terrains aus Farbe\, Struktur und Licht – Karten von Emotion und Identität. Zwischen Schichtungen\, verschiedenen Farben\, Kratzspuren\, Spachteltechniken und Glanzmomenten entsteht eine neue Form der Innerlichkeit: verletzlich\, stark und von leiser Würde getragen. \nTeresa Schardt arbeitet seit Jahren fast ausschließlich im Genre Frauenportraits. Ihre Malerei verbindet Intimität mit Symbolik\, Nähe mit Distanz. In „innere Landschaften“ entfaltet sich diese Sprache in atmosphärischen Bildern\, die das Unsichtbare sichtbar machen – Erinnerungen\, Empfindungen\, das Schweigen zwischen zwei Atemzügen. \nDie Ausstellung lädt dazu ein\, nicht nur Gesichter zu betrachten\, sondern Räume zu betreten – jene inneren Landschaften\, die wir alle in uns tragen.
URL:https://z87.de/event/260207-1/
CATEGORIES:Ausstellung
ATTACH;FMTTYPE=image/jpeg:https://z87.de/wp-content/uploads/2024/12/260207-1.jpg
END:VEVENT
BEGIN:VEVENT
DTSTART;TZID=Europe/Berlin:20260207T210000
DTEND;TZID=Europe/Berlin:20260207T210000
DTSTAMP:20260419T191921
CREATED:20260119T032446Z
LAST-MODIFIED:20260119T032446Z
UID:5599-1770498000-1770498000@z87.de
SUMMARY:Aftershowparty mit DJ Funkmaster
DESCRIPTION:Am 7. Februar 2026 geht es ab 21:00 Uhr richtig los – bei der Aftershowparty im Keller Z87! \nDJ-funkmaster.de sorgt für den perfekten Soundtrack der Nacht:\nFreut euch auf beste Dance Music von den 70ern über die 80er & 90er bis hin zu den aktuellen Charts. Klassiker\, Kult-Hits und moderne Beats – alles\, was die Tanzfläche füllt und die Nacht unvergesslich macht. \nTanzen\, feiern\, genießen – und dabei Gutes tun:\nDer Eintritt ist eine kleine Spende zugunsten der Wärmestube des Christophorus Werks.\nGemeinsam feiern und gleichzeitig Menschen unterstützen\, die Hilfe brauchen. \nKommt vorbei\, bringt gute Laune mit und lasst uns die Nacht gemeinsam zum Beben bringen!
URL:https://z87.de/event/260207-2/
ATTACH;FMTTYPE=image/jpeg:https://z87.de/wp-content/uploads/2024/12/260207-2.jpg
END:VEVENT
END:VCALENDAR