BEGIN:VCALENDAR
VERSION:2.0
PRODID:-// - ECPv6.15.20//NONSGML v1.0//EN
CALSCALE:GREGORIAN
METHOD:PUBLISH
X-ORIGINAL-URL:https://z87.de
X-WR-CALDESC:Veranstaltungen für 
REFRESH-INTERVAL;VALUE=DURATION:PT1H
X-Robots-Tag:noindex
X-PUBLISHED-TTL:PT1H
BEGIN:VTIMEZONE
TZID:Europe/Berlin
BEGIN:DAYLIGHT
TZOFFSETFROM:+0100
TZOFFSETTO:+0200
TZNAME:CEST
DTSTART:20250330T010000
END:DAYLIGHT
BEGIN:STANDARD
TZOFFSETFROM:+0200
TZOFFSETTO:+0100
TZNAME:CET
DTSTART:20251026T010000
END:STANDARD
BEGIN:DAYLIGHT
TZOFFSETFROM:+0100
TZOFFSETTO:+0200
TZNAME:CEST
DTSTART:20260329T010000
END:DAYLIGHT
BEGIN:STANDARD
TZOFFSETFROM:+0200
TZOFFSETTO:+0100
TZNAME:CET
DTSTART:20261025T010000
END:STANDARD
BEGIN:DAYLIGHT
TZOFFSETFROM:+0100
TZOFFSETTO:+0200
TZNAME:CEST
DTSTART:20270328T010000
END:DAYLIGHT
BEGIN:STANDARD
TZOFFSETFROM:+0200
TZOFFSETTO:+0100
TZNAME:CET
DTSTART:20271031T010000
END:STANDARD
END:VTIMEZONE
BEGIN:VEVENT
DTSTART;TZID=Europe/Berlin:20260109T200000
DTEND;TZID=Europe/Berlin:20260109T200000
DTSTAMP:20260421T153651
CREATED:20250217T072324Z
LAST-MODIFIED:20260102T070306Z
UID:3946-1767988800-1767988800@z87.de
SUMMARY:Bernd Zehnter - Zauberkunst Pur
DESCRIPTION:Bernd Zehnter wurde unter anderem durch die Würzburger und Konstanzer Zaubertagen – bundesweit  bekannt. Darüber hinaus bekommt er als Moderator seines TV-Formats „Hinter den Kulissen“ nicht nur von seinen prominenten Gästen äußerst positive Rückmeldungen. \nNach einer magischen Begegnung hat sich eine zauberhafte Erfolgsgeschichte entwickelt. Unter den seitdem vielen tausenden begeisterten Zuschauern waren u.a. auch Reiner Calmund\, Dirk Nowitzki und viele mehr … \nDer Zauberkünstler zeigt Ihnen das BESTE aus seinen Bühnenprogrammen – Zauberkunst PUR. Sie erleben Zauberkunst mit Alltagsgegenständen in größtmöglicher Nähe. Dadurch wird die Magie einerseits so greifbar\, andererseits aber so unbegreifbar. \nMehr Infos unter: www.10ter.com \nAbendkasse 20.-
URL:https://z87.de/event/260109/
LOCATION:Keller Z87\, Frankfurter Straße 87\, Würzburg\, Bayern\, 97082\, Germany
CATEGORIES:Zauberkunst
ATTACH;FMTTYPE=image/jpeg:https://z87.de/wp-content/uploads/2024/12/260109.jpg
END:VEVENT
END:VCALENDAR