BEGIN:VCALENDAR
VERSION:2.0
PRODID:-// - ECPv6.15.20//NONSGML v1.0//EN
CALSCALE:GREGORIAN
METHOD:PUBLISH
X-ORIGINAL-URL:https://z87.de
X-WR-CALDESC:Veranstaltungen für 
REFRESH-INTERVAL;VALUE=DURATION:PT1H
X-Robots-Tag:noindex
X-PUBLISHED-TTL:PT1H
BEGIN:VTIMEZONE
TZID:Europe/Berlin
BEGIN:DAYLIGHT
TZOFFSETFROM:+0100
TZOFFSETTO:+0200
TZNAME:CEST
DTSTART:20230326T010000
END:DAYLIGHT
BEGIN:STANDARD
TZOFFSETFROM:+0200
TZOFFSETTO:+0100
TZNAME:CET
DTSTART:20231029T010000
END:STANDARD
BEGIN:DAYLIGHT
TZOFFSETFROM:+0100
TZOFFSETTO:+0200
TZNAME:CEST
DTSTART:20240331T010000
END:DAYLIGHT
BEGIN:STANDARD
TZOFFSETFROM:+0200
TZOFFSETTO:+0100
TZNAME:CET
DTSTART:20241027T010000
END:STANDARD
BEGIN:DAYLIGHT
TZOFFSETFROM:+0100
TZOFFSETTO:+0200
TZNAME:CEST
DTSTART:20250330T010000
END:DAYLIGHT
BEGIN:STANDARD
TZOFFSETFROM:+0200
TZOFFSETTO:+0100
TZNAME:CET
DTSTART:20251026T010000
END:STANDARD
END:VTIMEZONE
BEGIN:VEVENT
DTSTART;TZID=Europe/Berlin:20240713T210000
DTEND;TZID=Europe/Berlin:20240713T230000
DTSTAMP:20260425T165027
CREATED:20240704T031012Z
LAST-MODIFIED:20240704T031134Z
UID:2147-1720904400-1720911600@z87.de
SUMMARY:Midlife New Generation - Disco
DESCRIPTION:New Generation heißt am Sa. 13. Juli ab 21 Uhr eben keine 60er und 70er Klassiker. Es wird schnelle Beats und coole Clubmusik ab den 2000er geben\, hier ein Track-Auszug mit Dua Lipa\, Cyril\, Eli Golding\, Enimen\, Pussy Cats Dolls\, Faithless und Kelis\, Robert Miles und Alcatraz\, Technotronic und Purple Disco Machine\, Mark Ronson darf nicht fehlen\, Mau P. und Run DMC wird es geben und dazwischen auch was aus den 90ern – also Beats die in Bauch und Beine gehen – da darf gerne eine Schweißperle auf der Stirn auftauchen. \nKein VVK – nur Abendkasse.
URL:https://z87.de/event/240713/
CATEGORIES:Disco
ATTACH;FMTTYPE=image/jpeg:https://z87.de/wp-content/uploads/2023/05/Black-Music-Tuesday.jpg
END:VEVENT
END:VCALENDAR