BEGIN:VCALENDAR
VERSION:2.0
PRODID:-// - ECPv6.15.20//NONSGML v1.0//EN
CALSCALE:GREGORIAN
METHOD:PUBLISH
X-ORIGINAL-URL:https://z87.de
X-WR-CALDESC:Veranstaltungen für 
REFRESH-INTERVAL;VALUE=DURATION:PT1H
X-Robots-Tag:noindex
X-PUBLISHED-TTL:PT1H
BEGIN:VTIMEZONE
TZID:Europe/Berlin
BEGIN:DAYLIGHT
TZOFFSETFROM:+0100
TZOFFSETTO:+0200
TZNAME:CEST
DTSTART:20230326T010000
END:DAYLIGHT
BEGIN:STANDARD
TZOFFSETFROM:+0200
TZOFFSETTO:+0100
TZNAME:CET
DTSTART:20231029T010000
END:STANDARD
BEGIN:DAYLIGHT
TZOFFSETFROM:+0100
TZOFFSETTO:+0200
TZNAME:CEST
DTSTART:20240331T010000
END:DAYLIGHT
BEGIN:STANDARD
TZOFFSETFROM:+0200
TZOFFSETTO:+0100
TZNAME:CET
DTSTART:20241027T010000
END:STANDARD
BEGIN:DAYLIGHT
TZOFFSETFROM:+0100
TZOFFSETTO:+0200
TZNAME:CEST
DTSTART:20250330T010000
END:DAYLIGHT
BEGIN:STANDARD
TZOFFSETFROM:+0200
TZOFFSETTO:+0100
TZNAME:CET
DTSTART:20251026T010000
END:STANDARD
END:VTIMEZONE
BEGIN:VEVENT
DTSTART;TZID=Europe/Berlin:20240708T200000
DTEND;TZID=Europe/Berlin:20240708T230000
DTSTAMP:20260426T002241
CREATED:20240529T153443Z
LAST-MODIFIED:20240628T113057Z
UID:2058-1720468800-1720479600@z87.de
SUMMARY:Danielle Nicole Band - Bluesrock
DESCRIPTION:Als Gründungsmitglied der „Heavy Blues“-Geschwisterband Trampled Under Foot gewann die US-Amerikanische Bluesrock-Bassistin Danielle Nicole zusammen mit ihren Brüdern den ersten Platz bei der International Blues Challenge in den USA\, was sie nach Kanada\, Skandinavien\, Europa und Großbritannien brachte und sie auf mehreren Legendary Rhythm & Blues Cruises auftreten ließ. \nNicoles „unverwechselbare\, einfallsreiche Bassarbeit“ – die dazu führte\, dass sie nicht nur die erste Frau war\, die bei den 2012 Blues Music Awards der Blues Foundation in der Kategorie „Instrumentalist ~ Bass“ nominiert wurde\, sondern auch die erste Frau\, der diese Ehre zweimal zuteil wurde – „ist das Ergebnis jahrelanger\, intensiver Arbeit.“ \n2015 machte sich Nicole mit mehr als einem Jahrzehnt Tournee-Erfahrung auf den Weg und veröffentlichte das in New Orleans mit Anders Osborne aufgenommene Album Wolf Den. Damit begann der Weg\, ihren eigenen Sound und ihre Stimme als Solokünstlerin zu finden. Nicoles 2017 veröffentlichtes Album Cry No More brachte nicht nur einen härteren Sound und Stil hervor\, der Nicoles ohnehin schon breitere Stimme und ihre Texte differenzierte\, sondern auch eine Reihe von Auszeichnungen\, darunter ein Debüt auf Platz 1 der Billboard Charts\, eine 2019er Grammy-Nominierung für ein zeitgenössisches Blues-Album\, 2 Blues Music Awards\, einen als „zeitgenössische Künstlerin“ und den zweiten als „Instrumentalistin Bass“\, und 3 Independent Blues Music Awards. Seitdem tourt Nicole durch die Welt und feilt an ihrem eigenen Sound. Kürzlich erhielt sie ihren 6. Blues Music Award\, vor allem aber ihren 4. in der Kategorie „Bass Instrumentalist“. \nErlebt die aus Kansas City stammende Naturgewalt zusammen mit Brandon Miller an der Gitarre und am Gesang sowie dem international gefeierten Go-Go Ray am Schlagzeug. \nBesetzung: \nBrandon Miller: Gitarre\, Gesang\nDanielle Nicole: Bass\, Gesang\nGo-Go Ray: Schlagzeug \nhttps://youtu.be/dGpmAvo9XQk
URL:https://z87.de/event/240807/
CATEGORIES:Blues-Rock
ATTACH;FMTTYPE=image/jpeg:https://z87.de/wp-content/uploads/2024/05/WEB_Danielle_Nicole_Band_Peach_©CassieTaylor-min-scaled.jpg
END:VEVENT
END:VCALENDAR