BEGIN:VCALENDAR
VERSION:2.0
PRODID:-// - ECPv6.15.20//NONSGML v1.0//EN
CALSCALE:GREGORIAN
METHOD:PUBLISH
X-ORIGINAL-URL:https://z87.de
X-WR-CALDESC:Veranstaltungen für 
REFRESH-INTERVAL;VALUE=DURATION:PT1H
X-Robots-Tag:noindex
X-PUBLISHED-TTL:PT1H
BEGIN:VTIMEZONE
TZID:Europe/Berlin
BEGIN:DAYLIGHT
TZOFFSETFROM:+0100
TZOFFSETTO:+0200
TZNAME:CEST
DTSTART:20230326T010000
END:DAYLIGHT
BEGIN:STANDARD
TZOFFSETFROM:+0200
TZOFFSETTO:+0100
TZNAME:CET
DTSTART:20231029T010000
END:STANDARD
BEGIN:DAYLIGHT
TZOFFSETFROM:+0100
TZOFFSETTO:+0200
TZNAME:CEST
DTSTART:20240331T010000
END:DAYLIGHT
BEGIN:STANDARD
TZOFFSETFROM:+0200
TZOFFSETTO:+0100
TZNAME:CET
DTSTART:20241027T010000
END:STANDARD
BEGIN:DAYLIGHT
TZOFFSETFROM:+0100
TZOFFSETTO:+0200
TZNAME:CEST
DTSTART:20250330T010000
END:DAYLIGHT
BEGIN:STANDARD
TZOFFSETFROM:+0200
TZOFFSETTO:+0100
TZNAME:CET
DTSTART:20251026T010000
END:STANDARD
END:VTIMEZONE
BEGIN:VEVENT
DTSTART;TZID=Europe/Berlin:20240707T190000
DTEND;TZID=Europe/Berlin:20240707T220000
DTSTAMP:20260426T014641
CREATED:20240507T115934Z
LAST-MODIFIED:20240507T120918Z
UID:2038-1720378800-1720389600@z87.de
SUMMARY:52. Gypsy Jazz Jam Session mit "Swing On Fire"
DESCRIPTION:52. Würzburger Gypsy Jazz Jam Session am Sonntag den 7.7.2024\, mit „Swing on Fire“ aus Darmstadt und INSWINGTIEF & Friends \nLiebe Besucher der „Gypsy Jazz Jam Session“ in Würzburg \nAm Sonntag den 7.7.2024 findet um 19:00 Uhr im Kulturkeller Z87 die 52.Würzburger Gypsy Jazz Jam Session statt. Zu diesem Termin dürfen wir ganz besondere Gastmusiker aus Darmstadt im Kulturkeller Z 87 im ehemaligen Bürgerbräugelände begrüssen. \nAblauf:\nUnsere Gäste aus Darmstadt\, das Trio „Swing on Fire“ spielen für euch ab 19:00 Uhr ein kleines opener Konzert\, danach können einzelne Musiker auf akustischen Instrumenten (mit Abstand!) wechselweise einsteigen. Wir vom Quartett INSWINGTIEF stehen dann natürlich auch parat. \nWer schon ein bißchen üben möchte:\nUnsere opener Stücke sind dieses Mal:\nLady B Good (in G)\nSoftly as in a morning sunrise (in Cmin)\nSheik of Araby (in Bb)\nPolka Dots and Moonbeams (in G) \nZur opener Band:\n„ Swing on Fire“ Swing on Fire entführt seit 2010 ihre Zuhörer in die Swing Era\, also fast schon 100 Jahre zurück in die Zeit\, in der Kunst und Entertainment sich vielleicht am nächsten waren. Die Band hat sich mit Gypsy- Swing der einzig anerkannten rein europäischen Jazzrichtung verschrieben\, folgend der Tradition der französischen Swing Band Hot Club de France mit vermutlich ersten berühmten Solo-Gitarristen der Geschichte Django Reinhardt. Das Programm\, ergänzt und aufgelockert durch Bossa\, Bolero\, Chanson oder auch mal Musette Walzer\, wird energiegeladen und mit unbändigen Spielfreude präsentiert. Da können die Füße kaum stillhalten\, ganz in der Tradition des Swing. Die Band ist mittlerweile im Rhein-Main Gebiet und deutschlandweit durch unzählige Auftritte bekannt. www.ivica-music.de (Fotos: Ivica Pavlovic) \nDie Besetzung am 7.7.2024: Ivica Pavlovic (git+voc) Henry Eipl (git) Ervin Istvan (b)
URL:https://z87.de/event/240707/
CATEGORIES:Jazz
ATTACH;FMTTYPE=image/jpeg:https://z87.de/wp-content/uploads/2024/05/Swing-on-Fire-Ivica-Pavlovic-GS.jpg
END:VEVENT
END:VCALENDAR