BEGIN:VCALENDAR
VERSION:2.0
PRODID:-// - ECPv6.15.20//NONSGML v1.0//EN
CALSCALE:GREGORIAN
METHOD:PUBLISH
X-ORIGINAL-URL:https://z87.de
X-WR-CALDESC:Veranstaltungen für 
REFRESH-INTERVAL;VALUE=DURATION:PT1H
X-Robots-Tag:noindex
X-PUBLISHED-TTL:PT1H
BEGIN:VTIMEZONE
TZID:Europe/Berlin
BEGIN:DAYLIGHT
TZOFFSETFROM:+0100
TZOFFSETTO:+0200
TZNAME:CEST
DTSTART:20240331T010000
END:DAYLIGHT
BEGIN:STANDARD
TZOFFSETFROM:+0200
TZOFFSETTO:+0100
TZNAME:CET
DTSTART:20241027T010000
END:STANDARD
BEGIN:DAYLIGHT
TZOFFSETFROM:+0100
TZOFFSETTO:+0200
TZNAME:CEST
DTSTART:20250330T010000
END:DAYLIGHT
BEGIN:STANDARD
TZOFFSETFROM:+0200
TZOFFSETTO:+0100
TZNAME:CET
DTSTART:20251026T010000
END:STANDARD
BEGIN:DAYLIGHT
TZOFFSETFROM:+0100
TZOFFSETTO:+0200
TZNAME:CEST
DTSTART:20260329T010000
END:DAYLIGHT
BEGIN:STANDARD
TZOFFSETFROM:+0200
TZOFFSETTO:+0100
TZNAME:CET
DTSTART:20261025T010000
END:STANDARD
END:VTIMEZONE
BEGIN:VEVENT
DTSTART;TZID=Europe/Berlin:20251230T200000
DTEND;TZID=Europe/Berlin:20251230T200000
DTSTAMP:20260419T220327
CREATED:20251218T041619Z
LAST-MODIFIED:20251218T041619Z
UID:5382-1767124800-1767124800@z87.de
SUMMARY:Pre-Silvester-Party
DESCRIPTION:Nach dem letzten großen Erfolg im November in vielen Kellern auf dem Bürgerbräu Gelände\, gibt es mit unserem Klassiker „Pre-Silvester-Party“am Mittwoch\, den 30. Dezember einen musikalisch krönenden Abschluss des Tanzjahres 2025 mit dieser Party-Neuauflage im Keller Z87 und im Keller daneben. \nIm E-Werk haben wir wieder die DJs der AKW Next Generation eingeladen – die freuen sich schon sehr\, ihren musikalischen Beitrag wieder zum Midlife-Club beizutragen. Der Keller Z 87 wird von den Midlife-Club DJs bespielt – Einlass ist ab 19.30 Uhr\, der VVK startet am Freitag\, den 19. Dezember ab 18 Uhr auf unsere Homepage midlife-club.de – Tickets kosten 10\,- Euro und können mit Paypal gebucht werden. \nAlso volles Abtanz-Programm mit jeder Menge Tanzabwechslung ist zum Jahresabschluss garantiert. \nWir sehen uns im Club
URL:https://z87.de/event/251230/
CATEGORIES:Disco
ATTACH;FMTTYPE=image/jpeg:https://z87.de/wp-content/uploads/2025/12/251230.jpg
END:VEVENT
END:VCALENDAR