BEGIN:VCALENDAR
VERSION:2.0
PRODID:-// - ECPv6.15.20//NONSGML v1.0//EN
CALSCALE:GREGORIAN
METHOD:PUBLISH
X-ORIGINAL-URL:https://z87.de
X-WR-CALDESC:Veranstaltungen für 
REFRESH-INTERVAL;VALUE=DURATION:PT1H
X-Robots-Tag:noindex
X-PUBLISHED-TTL:PT1H
BEGIN:VTIMEZONE
TZID:Europe/Berlin
BEGIN:DAYLIGHT
TZOFFSETFROM:+0100
TZOFFSETTO:+0200
TZNAME:CEST
DTSTART:20240331T010000
END:DAYLIGHT
BEGIN:STANDARD
TZOFFSETFROM:+0200
TZOFFSETTO:+0100
TZNAME:CET
DTSTART:20241027T010000
END:STANDARD
BEGIN:DAYLIGHT
TZOFFSETFROM:+0100
TZOFFSETTO:+0200
TZNAME:CEST
DTSTART:20250330T010000
END:DAYLIGHT
BEGIN:STANDARD
TZOFFSETFROM:+0200
TZOFFSETTO:+0100
TZNAME:CET
DTSTART:20251026T010000
END:STANDARD
BEGIN:DAYLIGHT
TZOFFSETFROM:+0100
TZOFFSETTO:+0200
TZNAME:CEST
DTSTART:20260329T010000
END:DAYLIGHT
BEGIN:STANDARD
TZOFFSETFROM:+0200
TZOFFSETTO:+0100
TZNAME:CET
DTSTART:20261025T010000
END:STANDARD
END:VTIMEZONE
BEGIN:VEVENT
DTSTART;TZID=Europe/Berlin:20251012T190000
DTEND;TZID=Europe/Berlin:20251012T190000
DTSTAMP:20260421T140857
CREATED:20250815T161613Z
LAST-MODIFIED:20250815T162352Z
UID:4700-1760295600-1760295600@z87.de
SUMMARY:Shoe's Bakery - Folk\, Bluegrass\, Old-Time und Country
DESCRIPTION:Dass die Brüder von „Shoes Bakery“ seit jeher ihr musikalisches Schaffen ganz in den Dienst amerikanischer Musik stellen\, ist wohl genau so offensichtlich wie die Tatsache\, dass die zwei bereits so manchen Kilometer auf ihren Tournee-Tacho gepackt haben.\nSo sind Johnny und Basti sowohl mit der Retro Rock & Roll Band „Midge’s Pocket“ als auch mit der Bluegrass Combo „Johnny & the Yooahoos“ zu hören\, wobei Letztere bereits auf 5-wöchigere US-Tour war und hierbei sogar renommierte Locations wie die „Grand Ole Opry“ oder das „Grey Fox Bluegrass Festival“ bespielen durfte.\nDass das brüderliche Duo nun auch zu zweit die Bühnen betritt\, ist wohl auf die schier unendliche Bandbreite der Americana-Musik zurückzuführen und dem damit verbundenen Bedürfnis der Beiden\, neben ihren eigenen Songs auch die nicht ganz offensichtlichen Werke aus Folk\, Bluegrass\, Old-Time und Country in der Öffentlichkeit erklingen zu lassen.\nHierbei versteht sich von selbst\, dass das Ganze nur mithilfe einer reichhaltigen Auswahl an amerikanischen Saiteninstrumenten dargeboten werden kann… ob für den Folk-Neuling oder den Acoustic-Kenner – hier ist für alles was dabei!\n								\n					\n				\n		\n					\n				\n					\n				\n				\n									Abendkasse 20.-
URL:https://z87.de/event/251012/
CATEGORIES:Folk
ATTACH;FMTTYPE=image/jpeg:https://z87.de/wp-content/uploads/2025/08/251012.jpg
END:VEVENT
END:VCALENDAR