BEGIN:VCALENDAR
VERSION:2.0
PRODID:-// - ECPv6.15.20//NONSGML v1.0//EN
CALSCALE:GREGORIAN
METHOD:PUBLISH
X-ORIGINAL-URL:https://z87.de
X-WR-CALDESC:Veranstaltungen für 
REFRESH-INTERVAL;VALUE=DURATION:PT1H
X-Robots-Tag:noindex
X-PUBLISHED-TTL:PT1H
BEGIN:VTIMEZONE
TZID:Europe/Berlin
BEGIN:DAYLIGHT
TZOFFSETFROM:+0100
TZOFFSETTO:+0200
TZNAME:CEST
DTSTART:20240331T010000
END:DAYLIGHT
BEGIN:STANDARD
TZOFFSETFROM:+0200
TZOFFSETTO:+0100
TZNAME:CET
DTSTART:20241027T010000
END:STANDARD
BEGIN:DAYLIGHT
TZOFFSETFROM:+0100
TZOFFSETTO:+0200
TZNAME:CEST
DTSTART:20250330T010000
END:DAYLIGHT
BEGIN:STANDARD
TZOFFSETFROM:+0200
TZOFFSETTO:+0100
TZNAME:CET
DTSTART:20251026T010000
END:STANDARD
BEGIN:DAYLIGHT
TZOFFSETFROM:+0100
TZOFFSETTO:+0200
TZNAME:CEST
DTSTART:20260329T010000
END:DAYLIGHT
BEGIN:STANDARD
TZOFFSETFROM:+0200
TZOFFSETTO:+0100
TZNAME:CET
DTSTART:20261025T010000
END:STANDARD
END:VTIMEZONE
BEGIN:VEVENT
DTSTART;TZID=Europe/Berlin:20251010T200000
DTEND;TZID=Europe/Berlin:20251010T200000
DTSTAMP:20260423T101146
CREATED:20241219T024637Z
LAST-MODIFIED:20250926T032845Z
UID:3044-1760126400-1760126400@z87.de
SUMMARY:Moritz Hohl "Schön für dich" - Stand Up Comedy
DESCRIPTION:Moritz begeistert jeden Abend das Publikum in Berliner Stand Up Comedy Clubs. Könnt ihr wirklich jeden Berliner fragen. Wirklich. Fragt jetzt. Ich warte hier. Habt ihr? Gut. Moritz’ Comedy handelt von skurrilen Dingen\, die er erlebt oder sich ausgedacht hat. Kritiker sagen\, Moritz’ Humor sei so schwarz wie die Lunge von Helmut Schmidt. Wer sich aufgrund dieses Textes ein Ticket kauft\, ist ein Abenteurer oder ein Idiot. Beide sind bei der Comedy Show von Moritz genau richtig. \nMoritz Hohl ist im Herbst 2025 mit seiner Stand Up Comedy Show „Schön für Dich“ in ganz Deutschland auf Tour. Ein wahrhaft bewegendes Kabarett und Comedy-Erlebnis\, das sogar philosophische Zitate revolutioniert. \nHingehen\, anschauen\, mitlachen. 								\n					\n				\n		\n					\n				\n					Tickets
URL:https://z87.de/event/251010/
CATEGORIES:Kabarett
ATTACH;FMTTYPE=image/jpeg:https://z87.de/wp-content/uploads/2024/12/251010-1.jpg
END:VEVENT
END:VCALENDAR