BEGIN:VCALENDAR
VERSION:2.0
PRODID:-// - ECPv6.15.20//NONSGML v1.0//EN
CALSCALE:GREGORIAN
METHOD:PUBLISH
X-ORIGINAL-URL:https://z87.de
X-WR-CALDESC:Veranstaltungen für 
REFRESH-INTERVAL;VALUE=DURATION:PT1H
X-Robots-Tag:noindex
X-PUBLISHED-TTL:PT1H
BEGIN:VTIMEZONE
TZID:Europe/Berlin
BEGIN:DAYLIGHT
TZOFFSETFROM:+0100
TZOFFSETTO:+0200
TZNAME:CEST
DTSTART:20240331T010000
END:DAYLIGHT
BEGIN:STANDARD
TZOFFSETFROM:+0200
TZOFFSETTO:+0100
TZNAME:CET
DTSTART:20241027T010000
END:STANDARD
BEGIN:DAYLIGHT
TZOFFSETFROM:+0100
TZOFFSETTO:+0200
TZNAME:CEST
DTSTART:20250330T010000
END:DAYLIGHT
BEGIN:STANDARD
TZOFFSETFROM:+0200
TZOFFSETTO:+0100
TZNAME:CET
DTSTART:20251026T010000
END:STANDARD
BEGIN:DAYLIGHT
TZOFFSETFROM:+0100
TZOFFSETTO:+0200
TZNAME:CEST
DTSTART:20260329T010000
END:DAYLIGHT
BEGIN:STANDARD
TZOFFSETFROM:+0200
TZOFFSETTO:+0100
TZNAME:CET
DTSTART:20261025T010000
END:STANDARD
END:VTIMEZONE
BEGIN:VEVENT
DTSTART;TZID=Europe/Berlin:20250924T190000
DTEND;TZID=Europe/Berlin:20250924T190000
DTSTAMP:20260421T141010
CREATED:20250820T063615Z
LAST-MODIFIED:20250820T063719Z
UID:4759-1758740400-1758740400@z87.de
SUMMARY:Die Sprech(er)stunde zum Bayern 2-Publikumspreis
DESCRIPTION:Die Sprecherinnen und Sprecher des Bayerischen Rundfunks lesen aus den Lieblingsbüchern 2025.   Die Sprecherinnen und Sprecher des Bayerischen Rundfunks touren im Herbst mit fünf Bestsellern im Gepäck durch Bayern und machen Station in vier Orten. Sie lesen aus den Büchern\, die in diesem Jahr für den Bayern 2-Publikumspreis nominiert sind. Vielleicht ist auch Ihr Lieblingsbuch dabei? Der Bayern 2-Publikumspreis wird im Rahmen des Bayerischen Buchpreises vergeben. Eine Jury aus Buchhändlerinnen und Buchhändlern sowie Redakteurinnen und Redakteuren von Bayern 2 trifft eine Vorauswahl aus den beliebtesten und verkaufsstärksten Titeln des Jahres\, über die dann abgestimmt werden kann. Wunderbare Bücher – vorgelesen von wunderbaren Stimmen! Der Eintritt zu den Sprech(er)stunden ist wie immer frei. Spenden sind erbeten für „Sternstunden“\, die Benefizaktion mit dem Bayerischen Rundfunk für Kinder und Jugendliche. Im Keller Z87 auf dem Bürgerbräu mit Unterstützung des Fördervereins der kulturellen Vielfalt im Keller z87 e.V. Musikalische Untermalung:   Soundkulissendesign von DJ lucidlavalamb Lesung und Moderation: Sisi Forster und Florian Schwarz.
URL:https://z87.de/event/250924/
CATEGORIES:Lesung
ATTACH;FMTTYPE=image/jpeg:https://z87.de/wp-content/uploads/2025/08/250924.jpg
END:VEVENT
END:VCALENDAR