BEGIN:VCALENDAR
VERSION:2.0
PRODID:-// - ECPv6.15.20//NONSGML v1.0//EN
CALSCALE:GREGORIAN
METHOD:PUBLISH
X-ORIGINAL-URL:https://z87.de
X-WR-CALDESC:Veranstaltungen für 
REFRESH-INTERVAL;VALUE=DURATION:PT1H
X-Robots-Tag:noindex
X-PUBLISHED-TTL:PT1H
BEGIN:VTIMEZONE
TZID:Europe/Berlin
BEGIN:DAYLIGHT
TZOFFSETFROM:+0100
TZOFFSETTO:+0200
TZNAME:CEST
DTSTART:20240331T010000
END:DAYLIGHT
BEGIN:STANDARD
TZOFFSETFROM:+0200
TZOFFSETTO:+0100
TZNAME:CET
DTSTART:20241027T010000
END:STANDARD
BEGIN:DAYLIGHT
TZOFFSETFROM:+0100
TZOFFSETTO:+0200
TZNAME:CEST
DTSTART:20250330T010000
END:DAYLIGHT
BEGIN:STANDARD
TZOFFSETFROM:+0200
TZOFFSETTO:+0100
TZNAME:CET
DTSTART:20251026T010000
END:STANDARD
BEGIN:DAYLIGHT
TZOFFSETFROM:+0100
TZOFFSETTO:+0200
TZNAME:CEST
DTSTART:20260329T010000
END:DAYLIGHT
BEGIN:STANDARD
TZOFFSETFROM:+0200
TZOFFSETTO:+0100
TZNAME:CET
DTSTART:20261025T010000
END:STANDARD
END:VTIMEZONE
BEGIN:VEVENT
DTSTART;TZID=Europe/Berlin:20250330T190000
DTEND;TZID=Europe/Berlin:20250330T190000
DTSTAMP:20260419T151730
CREATED:20250227T043121Z
LAST-MODIFIED:20250313T042658Z
UID:4039-1743361200-1743361200@z87.de
SUMMARY:Marion Neuendorf - "Rotkäppchen" - Lesung mit Trallala Teil 2
DESCRIPTION:Sängerin Marion Neuendorf hat den Märchenklassiker „Rotkäppchen“ zur Jetztzeitballade „neu verdichtet“\, und ein „Super-Premium-Rüttel-Reimmärchen“ daraus gemacht.Mit Witz\, Charme und einer Prise Spitzfindigkeit ist ein unterhaltsames Solostück entstanden:Genau das Richtige für einen heiteren und unbeschwerten Abend\, zum Mitsingen und/oder alten Ohrwürmern neuen Raum geben. Haben Sie sich jemals gefragt\, ob solche wunder-vollen Geschichten heute noch möglich wären\, wo doch „jedes Kind“ ein Handy dabei hat?  Wohnen heute immer noch Großmütter allein im Wald? Wenn ja\, was machen sie den lieben langen Tag? Und welchem Hobby geht der Jäger nach?…  Fragen über Fragen. Mit viel Fantasie\, Spaß an der Freude und jeder Menge Hits ist ein neues Solostück entstanden\, das Seinesgleichen gar nicht erst sucht\, aber vielleicht Antworten findet. 								\n					\n				\n		\n					\n				\n										\n						\n									Tickets\n					\n					\n								\n					\n				\n		\n					\n				\n									Abendkasse 20.-
URL:https://z87.de/event/250330/
CATEGORIES:Kabarett,Lesung
ATTACH;FMTTYPE=image/jpeg:https://z87.de/wp-content/uploads/2025/02/250330-1.jpg
END:VEVENT
END:VCALENDAR